BEGIN:VCALENDAR
VERSION:2.0
PRODID:-//217.160.0.216//NONSGML kigkonsult.se iCalcreator 2.20//
CALSCALE:GREGORIAN
METHOD:PUBLISH
X-WR-TIMEZONE:Europe/Berlin
BEGIN:VEVENT
UID:event30@Sozialatlas Neukölln
DTSTAMP:20260421T092325Z
CATEGORIES:Austellungen
DESCRIPTION:Architecture of Hidden Activity  - Die physische Dimension des 
 Digitalen\nKategorie: Austellungen\nICS-Link: http://sozialatlas-neukoelln
 .de/index.php?option=com_jem&view=event&id=30:architecture-of-hidden-activ
 ity-die-physische-dimension-des-digitalen\n
DTSTART;TZID=Europe/Berlin:20260306T100000
DTEND;TZID=Europe/Berlin:20260617T200000
LOCATION:Körnerpark\,Schierker Str. 8\,12051 Neukölln\,Germany
SUMMARY:Architecture of Hidden Activity  - Die physische Dimension des Digi
 talen
URL:http://sozialatlas-neukoelln.de/index.php?option=com_jem&view=event&id=
 30:architecture-of-hidden-activity-die-physische-dimension-des-digitalen
END:VEVENT
BEGIN:VEVENT
UID:event30@Sozialatlas Neukölln
DTSTAMP:20260421T092325Z
CATEGORIES:Austellungen
DESCRIPTION:Architecture of Hidden Activity  - Die physische Dimension des 
 Digitalen\nKategorie: Austellungen\nICS-Link: http://sozialatlas-neukoelln
 .de/index.php?option=com_jem&view=event&id=30:architecture-of-hidden-activ
 ity-die-physische-dimension-des-digitalen\n
DTSTART;TZID=Europe/Berlin:20260401T100000
DTEND;TZID=Europe/Berlin:20260617T200000
LOCATION:Körnerpark\,Schierker Str. 8\,12051 Neukölln\,Germany
SUMMARY:Architecture of Hidden Activity  - Die physische Dimension des Digi
 talen
URL:http://sozialatlas-neukoelln.de/index.php?option=com_jem&view=event&id=
 30:architecture-of-hidden-activity-die-physische-dimension-des-digitalen
END:VEVENT
BEGIN:VEVENT
UID:event30@Sozialatlas Neukölln
DTSTAMP:20260421T092325Z
CATEGORIES:Austellungen
DESCRIPTION:Architecture of Hidden Activity  - Die physische Dimension des 
 Digitalen\nKategorie: Austellungen\nICS-Link: http://sozialatlas-neukoelln
 .de/index.php?option=com_jem&view=event&id=30:architecture-of-hidden-activ
 ity-die-physische-dimension-des-digitalen\n
DTSTART;TZID=Europe/Berlin:20260402T100000
DTEND;TZID=Europe/Berlin:20260617T200000
LOCATION:Körnerpark\,Schierker Str. 8\,12051 Neukölln\,Germany
SUMMARY:Architecture of Hidden Activity  - Die physische Dimension des Digi
 talen
URL:http://sozialatlas-neukoelln.de/index.php?option=com_jem&view=event&id=
 30:architecture-of-hidden-activity-die-physische-dimension-des-digitalen
END:VEVENT
BEGIN:VEVENT
UID:event30@Sozialatlas Neukölln
DTSTAMP:20260421T092325Z
CATEGORIES:Austellungen
DESCRIPTION:Architecture of Hidden Activity  - Die physische Dimension des 
 Digitalen\nKategorie: Austellungen\nICS-Link: http://sozialatlas-neukoelln
 .de/index.php?option=com_jem&view=event&id=30:architecture-of-hidden-activ
 ity-die-physische-dimension-des-digitalen\n
DTSTART;TZID=Europe/Berlin:20260403T100000
DTEND;TZID=Europe/Berlin:20260617T200000
LOCATION:Körnerpark\,Schierker Str. 8\,12051 Neukölln\,Germany
SUMMARY:Architecture of Hidden Activity  - Die physische Dimension des Digi
 talen
URL:http://sozialatlas-neukoelln.de/index.php?option=com_jem&view=event&id=
 30:architecture-of-hidden-activity-die-physische-dimension-des-digitalen
END:VEVENT
BEGIN:VEVENT
UID:event30@Sozialatlas Neukölln
DTSTAMP:20260421T092325Z
CATEGORIES:Austellungen
DESCRIPTION:Architecture of Hidden Activity  - Die physische Dimension des 
 Digitalen\nKategorie: Austellungen\nICS-Link: http://sozialatlas-neukoelln
 .de/index.php?option=com_jem&view=event&id=30:architecture-of-hidden-activ
 ity-die-physische-dimension-des-digitalen\n
DTSTART;TZID=Europe/Berlin:20260404T100000
DTEND;TZID=Europe/Berlin:20260617T200000
LOCATION:Körnerpark\,Schierker Str. 8\,12051 Neukölln\,Germany
SUMMARY:Architecture of Hidden Activity  - Die physische Dimension des Digi
 talen
URL:http://sozialatlas-neukoelln.de/index.php?option=com_jem&view=event&id=
 30:architecture-of-hidden-activity-die-physische-dimension-des-digitalen
END:VEVENT
BEGIN:VEVENT
UID:event30@Sozialatlas Neukölln
DTSTAMP:20260421T092325Z
CATEGORIES:Austellungen
DESCRIPTION:Architecture of Hidden Activity  - Die physische Dimension des 
 Digitalen\nKategorie: Austellungen\nICS-Link: http://sozialatlas-neukoelln
 .de/index.php?option=com_jem&view=event&id=30:architecture-of-hidden-activ
 ity-die-physische-dimension-des-digitalen\n
DTSTART;TZID=Europe/Berlin:20260405T100000
DTEND;TZID=Europe/Berlin:20260617T200000
LOCATION:Körnerpark\,Schierker Str. 8\,12051 Neukölln\,Germany
SUMMARY:Architecture of Hidden Activity  - Die physische Dimension des Digi
 talen
URL:http://sozialatlas-neukoelln.de/index.php?option=com_jem&view=event&id=
 30:architecture-of-hidden-activity-die-physische-dimension-des-digitalen
END:VEVENT
BEGIN:VEVENT
UID:event30@Sozialatlas Neukölln
DTSTAMP:20260421T092325Z
CATEGORIES:Austellungen
DESCRIPTION:Architecture of Hidden Activity  - Die physische Dimension des 
 Digitalen\nKategorie: Austellungen\nICS-Link: http://sozialatlas-neukoelln
 .de/index.php?option=com_jem&view=event&id=30:architecture-of-hidden-activ
 ity-die-physische-dimension-des-digitalen\n
DTSTART;TZID=Europe/Berlin:20260406T100000
DTEND;TZID=Europe/Berlin:20260617T200000
LOCATION:Körnerpark\,Schierker Str. 8\,12051 Neukölln\,Germany
SUMMARY:Architecture of Hidden Activity  - Die physische Dimension des Digi
 talen
URL:http://sozialatlas-neukoelln.de/index.php?option=com_jem&view=event&id=
 30:architecture-of-hidden-activity-die-physische-dimension-des-digitalen
END:VEVENT
BEGIN:VEVENT
UID:event30@Sozialatlas Neukölln
DTSTAMP:20260421T092325Z
CATEGORIES:Austellungen
DESCRIPTION:Architecture of Hidden Activity  - Die physische Dimension des 
 Digitalen\nKategorie: Austellungen\nICS-Link: http://sozialatlas-neukoelln
 .de/index.php?option=com_jem&view=event&id=30:architecture-of-hidden-activ
 ity-die-physische-dimension-des-digitalen\n
DTSTART;TZID=Europe/Berlin:20260407T100000
DTEND;TZID=Europe/Berlin:20260617T200000
LOCATION:Körnerpark\,Schierker Str. 8\,12051 Neukölln\,Germany
SUMMARY:Architecture of Hidden Activity  - Die physische Dimension des Digi
 talen
URL:http://sozialatlas-neukoelln.de/index.php?option=com_jem&view=event&id=
 30:architecture-of-hidden-activity-die-physische-dimension-des-digitalen
END:VEVENT
BEGIN:VEVENT
UID:event30@Sozialatlas Neukölln
DTSTAMP:20260421T092325Z
CATEGORIES:Austellungen
DESCRIPTION:Architecture of Hidden Activity  - Die physische Dimension des 
 Digitalen\nKategorie: Austellungen\nICS-Link: http://sozialatlas-neukoelln
 .de/index.php?option=com_jem&view=event&id=30:architecture-of-hidden-activ
 ity-die-physische-dimension-des-digitalen\n
DTSTART;TZID=Europe/Berlin:20260408T100000
DTEND;TZID=Europe/Berlin:20260617T200000
LOCATION:Körnerpark\,Schierker Str. 8\,12051 Neukölln\,Germany
SUMMARY:Architecture of Hidden Activity  - Die physische Dimension des Digi
 talen
URL:http://sozialatlas-neukoelln.de/index.php?option=com_jem&view=event&id=
 30:architecture-of-hidden-activity-die-physische-dimension-des-digitalen
END:VEVENT
BEGIN:VEVENT
UID:event30@Sozialatlas Neukölln
DTSTAMP:20260421T092325Z
CATEGORIES:Austellungen
DESCRIPTION:Architecture of Hidden Activity  - Die physische Dimension des 
 Digitalen\nKategorie: Austellungen\nICS-Link: http://sozialatlas-neukoelln
 .de/index.php?option=com_jem&view=event&id=30:architecture-of-hidden-activ
 ity-die-physische-dimension-des-digitalen\n
DTSTART;TZID=Europe/Berlin:20260409T100000
DTEND;TZID=Europe/Berlin:20260617T200000
LOCATION:Körnerpark\,Schierker Str. 8\,12051 Neukölln\,Germany
SUMMARY:Architecture of Hidden Activity  - Die physische Dimension des Digi
 talen
URL:http://sozialatlas-neukoelln.de/index.php?option=com_jem&view=event&id=
 30:architecture-of-hidden-activity-die-physische-dimension-des-digitalen
END:VEVENT
BEGIN:VEVENT
UID:event30@Sozialatlas Neukölln
DTSTAMP:20260421T092325Z
CATEGORIES:Austellungen
DESCRIPTION:Architecture of Hidden Activity  - Die physische Dimension des 
 Digitalen\nKategorie: Austellungen\nICS-Link: http://sozialatlas-neukoelln
 .de/index.php?option=com_jem&view=event&id=30:architecture-of-hidden-activ
 ity-die-physische-dimension-des-digitalen\n
DTSTART;TZID=Europe/Berlin:20260410T100000
DTEND;TZID=Europe/Berlin:20260617T200000
LOCATION:Körnerpark\,Schierker Str. 8\,12051 Neukölln\,Germany
SUMMARY:Architecture of Hidden Activity  - Die physische Dimension des Digi
 talen
URL:http://sozialatlas-neukoelln.de/index.php?option=com_jem&view=event&id=
 30:architecture-of-hidden-activity-die-physische-dimension-des-digitalen
END:VEVENT
BEGIN:VEVENT
UID:event30@Sozialatlas Neukölln
DTSTAMP:20260421T092325Z
CATEGORIES:Austellungen
DESCRIPTION:Architecture of Hidden Activity  - Die physische Dimension des 
 Digitalen\nKategorie: Austellungen\nICS-Link: http://sozialatlas-neukoelln
 .de/index.php?option=com_jem&view=event&id=30:architecture-of-hidden-activ
 ity-die-physische-dimension-des-digitalen\n
DTSTART;TZID=Europe/Berlin:20260411T100000
DTEND;TZID=Europe/Berlin:20260617T200000
LOCATION:Körnerpark\,Schierker Str. 8\,12051 Neukölln\,Germany
SUMMARY:Architecture of Hidden Activity  - Die physische Dimension des Digi
 talen
URL:http://sozialatlas-neukoelln.de/index.php?option=com_jem&view=event&id=
 30:architecture-of-hidden-activity-die-physische-dimension-des-digitalen
END:VEVENT
BEGIN:VEVENT
UID:event30@Sozialatlas Neukölln
DTSTAMP:20260421T092325Z
CATEGORIES:Austellungen
DESCRIPTION:Architecture of Hidden Activity  - Die physische Dimension des 
 Digitalen\nKategorie: Austellungen\nICS-Link: http://sozialatlas-neukoelln
 .de/index.php?option=com_jem&view=event&id=30:architecture-of-hidden-activ
 ity-die-physische-dimension-des-digitalen\n
DTSTART;TZID=Europe/Berlin:20260412T100000
DTEND;TZID=Europe/Berlin:20260617T200000
LOCATION:Körnerpark\,Schierker Str. 8\,12051 Neukölln\,Germany
SUMMARY:Architecture of Hidden Activity  - Die physische Dimension des Digi
 talen
URL:http://sozialatlas-neukoelln.de/index.php?option=com_jem&view=event&id=
 30:architecture-of-hidden-activity-die-physische-dimension-des-digitalen
END:VEVENT
BEGIN:VEVENT
UID:event30@Sozialatlas Neukölln
DTSTAMP:20260421T092325Z
CATEGORIES:Austellungen
DESCRIPTION:Architecture of Hidden Activity  - Die physische Dimension des 
 Digitalen\nKategorie: Austellungen\nICS-Link: http://sozialatlas-neukoelln
 .de/index.php?option=com_jem&view=event&id=30:architecture-of-hidden-activ
 ity-die-physische-dimension-des-digitalen\n
DTSTART;TZID=Europe/Berlin:20260413T100000
DTEND;TZID=Europe/Berlin:20260617T200000
LOCATION:Körnerpark\,Schierker Str. 8\,12051 Neukölln\,Germany
SUMMARY:Architecture of Hidden Activity  - Die physische Dimension des Digi
 talen
URL:http://sozialatlas-neukoelln.de/index.php?option=com_jem&view=event&id=
 30:architecture-of-hidden-activity-die-physische-dimension-des-digitalen
END:VEVENT
BEGIN:VEVENT
UID:event30@Sozialatlas Neukölln
DTSTAMP:20260421T092325Z
CATEGORIES:Austellungen
DESCRIPTION:Architecture of Hidden Activity  - Die physische Dimension des 
 Digitalen\nKategorie: Austellungen\nICS-Link: http://sozialatlas-neukoelln
 .de/index.php?option=com_jem&view=event&id=30:architecture-of-hidden-activ
 ity-die-physische-dimension-des-digitalen\n
DTSTART;TZID=Europe/Berlin:20260414T100000
DTEND;TZID=Europe/Berlin:20260617T200000
LOCATION:Körnerpark\,Schierker Str. 8\,12051 Neukölln\,Germany
SUMMARY:Architecture of Hidden Activity  - Die physische Dimension des Digi
 talen
URL:http://sozialatlas-neukoelln.de/index.php?option=com_jem&view=event&id=
 30:architecture-of-hidden-activity-die-physische-dimension-des-digitalen
END:VEVENT
BEGIN:VEVENT
UID:event30@Sozialatlas Neukölln
DTSTAMP:20260421T092325Z
CATEGORIES:Austellungen
DESCRIPTION:Architecture of Hidden Activity  - Die physische Dimension des 
 Digitalen\nKategorie: Austellungen\nICS-Link: http://sozialatlas-neukoelln
 .de/index.php?option=com_jem&view=event&id=30:architecture-of-hidden-activ
 ity-die-physische-dimension-des-digitalen\n
DTSTART;TZID=Europe/Berlin:20260415T100000
DTEND;TZID=Europe/Berlin:20260617T200000
LOCATION:Körnerpark\,Schierker Str. 8\,12051 Neukölln\,Germany
SUMMARY:Architecture of Hidden Activity  - Die physische Dimension des Digi
 talen
URL:http://sozialatlas-neukoelln.de/index.php?option=com_jem&view=event&id=
 30:architecture-of-hidden-activity-die-physische-dimension-des-digitalen
END:VEVENT
BEGIN:VEVENT
UID:event30@Sozialatlas Neukölln
DTSTAMP:20260421T092325Z
CATEGORIES:Austellungen
DESCRIPTION:Architecture of Hidden Activity  - Die physische Dimension des 
 Digitalen\nKategorie: Austellungen\nICS-Link: http://sozialatlas-neukoelln
 .de/index.php?option=com_jem&view=event&id=30:architecture-of-hidden-activ
 ity-die-physische-dimension-des-digitalen\n
DTSTART;TZID=Europe/Berlin:20260416T100000
DTEND;TZID=Europe/Berlin:20260617T200000
LOCATION:Körnerpark\,Schierker Str. 8\,12051 Neukölln\,Germany
SUMMARY:Architecture of Hidden Activity  - Die physische Dimension des Digi
 talen
URL:http://sozialatlas-neukoelln.de/index.php?option=com_jem&view=event&id=
 30:architecture-of-hidden-activity-die-physische-dimension-des-digitalen
END:VEVENT
BEGIN:VEVENT
UID:event30@Sozialatlas Neukölln
DTSTAMP:20260421T092325Z
CATEGORIES:Austellungen
DESCRIPTION:Architecture of Hidden Activity  - Die physische Dimension des 
 Digitalen\nKategorie: Austellungen\nICS-Link: http://sozialatlas-neukoelln
 .de/index.php?option=com_jem&view=event&id=30:architecture-of-hidden-activ
 ity-die-physische-dimension-des-digitalen\n
DTSTART;TZID=Europe/Berlin:20260417T100000
DTEND;TZID=Europe/Berlin:20260617T200000
LOCATION:Körnerpark\,Schierker Str. 8\,12051 Neukölln\,Germany
SUMMARY:Architecture of Hidden Activity  - Die physische Dimension des Digi
 talen
URL:http://sozialatlas-neukoelln.de/index.php?option=com_jem&view=event&id=
 30:architecture-of-hidden-activity-die-physische-dimension-des-digitalen
END:VEVENT
BEGIN:VEVENT
UID:event30@Sozialatlas Neukölln
DTSTAMP:20260421T092325Z
CATEGORIES:Austellungen
DESCRIPTION:Architecture of Hidden Activity  - Die physische Dimension des 
 Digitalen\nKategorie: Austellungen\nICS-Link: http://sozialatlas-neukoelln
 .de/index.php?option=com_jem&view=event&id=30:architecture-of-hidden-activ
 ity-die-physische-dimension-des-digitalen\n
DTSTART;TZID=Europe/Berlin:20260418T100000
DTEND;TZID=Europe/Berlin:20260617T200000
LOCATION:Körnerpark\,Schierker Str. 8\,12051 Neukölln\,Germany
SUMMARY:Architecture of Hidden Activity  - Die physische Dimension des Digi
 talen
URL:http://sozialatlas-neukoelln.de/index.php?option=com_jem&view=event&id=
 30:architecture-of-hidden-activity-die-physische-dimension-des-digitalen
END:VEVENT
BEGIN:VEVENT
UID:event30@Sozialatlas Neukölln
DTSTAMP:20260421T092325Z
CATEGORIES:Austellungen
DESCRIPTION:Architecture of Hidden Activity  - Die physische Dimension des 
 Digitalen\nKategorie: Austellungen\nICS-Link: http://sozialatlas-neukoelln
 .de/index.php?option=com_jem&view=event&id=30:architecture-of-hidden-activ
 ity-die-physische-dimension-des-digitalen\n
DTSTART;TZID=Europe/Berlin:20260419T100000
DTEND;TZID=Europe/Berlin:20260617T200000
LOCATION:Körnerpark\,Schierker Str. 8\,12051 Neukölln\,Germany
SUMMARY:Architecture of Hidden Activity  - Die physische Dimension des Digi
 talen
URL:http://sozialatlas-neukoelln.de/index.php?option=com_jem&view=event&id=
 30:architecture-of-hidden-activity-die-physische-dimension-des-digitalen
END:VEVENT
BEGIN:VEVENT
UID:event30@Sozialatlas Neukölln
DTSTAMP:20260421T092325Z
CATEGORIES:Austellungen
DESCRIPTION:Architecture of Hidden Activity  - Die physische Dimension des 
 Digitalen\nKategorie: Austellungen\nICS-Link: http://sozialatlas-neukoelln
 .de/index.php?option=com_jem&view=event&id=30:architecture-of-hidden-activ
 ity-die-physische-dimension-des-digitalen\n
DTSTART;TZID=Europe/Berlin:20260420T100000
DTEND;TZID=Europe/Berlin:20260617T200000
LOCATION:Körnerpark\,Schierker Str. 8\,12051 Neukölln\,Germany
SUMMARY:Architecture of Hidden Activity  - Die physische Dimension des Digi
 talen
URL:http://sozialatlas-neukoelln.de/index.php?option=com_jem&view=event&id=
 30:architecture-of-hidden-activity-die-physische-dimension-des-digitalen
END:VEVENT
BEGIN:VEVENT
UID:event30@Sozialatlas Neukölln
DTSTAMP:20260421T092325Z
CATEGORIES:Austellungen
DESCRIPTION:Architecture of Hidden Activity  - Die physische Dimension des 
 Digitalen\nKategorie: Austellungen\nICS-Link: http://sozialatlas-neukoelln
 .de/index.php?option=com_jem&view=event&id=30:architecture-of-hidden-activ
 ity-die-physische-dimension-des-digitalen\n
DTSTART;TZID=Europe/Berlin:20260421T100000
DTEND;TZID=Europe/Berlin:20260617T200000
LOCATION:Körnerpark\,Schierker Str. 8\,12051 Neukölln\,Germany
SUMMARY:Architecture of Hidden Activity  - Die physische Dimension des Digi
 talen
URL:http://sozialatlas-neukoelln.de/index.php?option=com_jem&view=event&id=
 30:architecture-of-hidden-activity-die-physische-dimension-des-digitalen
END:VEVENT
BEGIN:VEVENT
UID:event30@Sozialatlas Neukölln
DTSTAMP:20260421T092325Z
CATEGORIES:Austellungen
DESCRIPTION:Architecture of Hidden Activity  - Die physische Dimension des 
 Digitalen\nKategorie: Austellungen\nICS-Link: http://sozialatlas-neukoelln
 .de/index.php?option=com_jem&view=event&id=30:architecture-of-hidden-activ
 ity-die-physische-dimension-des-digitalen\n
DTSTART;TZID=Europe/Berlin:20260422T100000
DTEND;TZID=Europe/Berlin:20260617T200000
LOCATION:Körnerpark\,Schierker Str. 8\,12051 Neukölln\,Germany
SUMMARY:Architecture of Hidden Activity  - Die physische Dimension des Digi
 talen
URL:http://sozialatlas-neukoelln.de/index.php?option=com_jem&view=event&id=
 30:architecture-of-hidden-activity-die-physische-dimension-des-digitalen
END:VEVENT
BEGIN:VEVENT
UID:event30@Sozialatlas Neukölln
DTSTAMP:20260421T092325Z
CATEGORIES:Austellungen
DESCRIPTION:Architecture of Hidden Activity  - Die physische Dimension des 
 Digitalen\nKategorie: Austellungen\nICS-Link: http://sozialatlas-neukoelln
 .de/index.php?option=com_jem&view=event&id=30:architecture-of-hidden-activ
 ity-die-physische-dimension-des-digitalen\n
DTSTART;TZID=Europe/Berlin:20260423T100000
DTEND;TZID=Europe/Berlin:20260617T200000
LOCATION:Körnerpark\,Schierker Str. 8\,12051 Neukölln\,Germany
SUMMARY:Architecture of Hidden Activity  - Die physische Dimension des Digi
 talen
URL:http://sozialatlas-neukoelln.de/index.php?option=com_jem&view=event&id=
 30:architecture-of-hidden-activity-die-physische-dimension-des-digitalen
END:VEVENT
BEGIN:VEVENT
UID:event30@Sozialatlas Neukölln
DTSTAMP:20260421T092325Z
CATEGORIES:Austellungen
DESCRIPTION:Architecture of Hidden Activity  - Die physische Dimension des 
 Digitalen\nKategorie: Austellungen\nICS-Link: http://sozialatlas-neukoelln
 .de/index.php?option=com_jem&view=event&id=30:architecture-of-hidden-activ
 ity-die-physische-dimension-des-digitalen\n
DTSTART;TZID=Europe/Berlin:20260424T100000
DTEND;TZID=Europe/Berlin:20260617T200000
LOCATION:Körnerpark\,Schierker Str. 8\,12051 Neukölln\,Germany
SUMMARY:Architecture of Hidden Activity  - Die physische Dimension des Digi
 talen
URL:http://sozialatlas-neukoelln.de/index.php?option=com_jem&view=event&id=
 30:architecture-of-hidden-activity-die-physische-dimension-des-digitalen
END:VEVENT
BEGIN:VEVENT
UID:event30@Sozialatlas Neukölln
DTSTAMP:20260421T092325Z
CATEGORIES:Austellungen
DESCRIPTION:Architecture of Hidden Activity  - Die physische Dimension des 
 Digitalen\nKategorie: Austellungen\nICS-Link: http://sozialatlas-neukoelln
 .de/index.php?option=com_jem&view=event&id=30:architecture-of-hidden-activ
 ity-die-physische-dimension-des-digitalen\n
DTSTART;TZID=Europe/Berlin:20260425T100000
DTEND;TZID=Europe/Berlin:20260617T200000
LOCATION:Körnerpark\,Schierker Str. 8\,12051 Neukölln\,Germany
SUMMARY:Architecture of Hidden Activity  - Die physische Dimension des Digi
 talen
URL:http://sozialatlas-neukoelln.de/index.php?option=com_jem&view=event&id=
 30:architecture-of-hidden-activity-die-physische-dimension-des-digitalen
END:VEVENT
BEGIN:VEVENT
UID:event30@Sozialatlas Neukölln
DTSTAMP:20260421T092325Z
CATEGORIES:Austellungen
DESCRIPTION:Architecture of Hidden Activity  - Die physische Dimension des 
 Digitalen\nKategorie: Austellungen\nICS-Link: http://sozialatlas-neukoelln
 .de/index.php?option=com_jem&view=event&id=30:architecture-of-hidden-activ
 ity-die-physische-dimension-des-digitalen\n
DTSTART;TZID=Europe/Berlin:20260426T100000
DTEND;TZID=Europe/Berlin:20260617T200000
LOCATION:Körnerpark\,Schierker Str. 8\,12051 Neukölln\,Germany
SUMMARY:Architecture of Hidden Activity  - Die physische Dimension des Digi
 talen
URL:http://sozialatlas-neukoelln.de/index.php?option=com_jem&view=event&id=
 30:architecture-of-hidden-activity-die-physische-dimension-des-digitalen
END:VEVENT
BEGIN:VEVENT
UID:event30@Sozialatlas Neukölln
DTSTAMP:20260421T092325Z
CATEGORIES:Austellungen
DESCRIPTION:Architecture of Hidden Activity  - Die physische Dimension des 
 Digitalen\nKategorie: Austellungen\nICS-Link: http://sozialatlas-neukoelln
 .de/index.php?option=com_jem&view=event&id=30:architecture-of-hidden-activ
 ity-die-physische-dimension-des-digitalen\n
DTSTART;TZID=Europe/Berlin:20260427T100000
DTEND;TZID=Europe/Berlin:20260617T200000
LOCATION:Körnerpark\,Schierker Str. 8\,12051 Neukölln\,Germany
SUMMARY:Architecture of Hidden Activity  - Die physische Dimension des Digi
 talen
URL:http://sozialatlas-neukoelln.de/index.php?option=com_jem&view=event&id=
 30:architecture-of-hidden-activity-die-physische-dimension-des-digitalen
END:VEVENT
BEGIN:VEVENT
UID:event30@Sozialatlas Neukölln
DTSTAMP:20260421T092325Z
CATEGORIES:Austellungen
DESCRIPTION:Architecture of Hidden Activity  - Die physische Dimension des 
 Digitalen\nKategorie: Austellungen\nICS-Link: http://sozialatlas-neukoelln
 .de/index.php?option=com_jem&view=event&id=30:architecture-of-hidden-activ
 ity-die-physische-dimension-des-digitalen\n
DTSTART;TZID=Europe/Berlin:20260428T100000
DTEND;TZID=Europe/Berlin:20260617T200000
LOCATION:Körnerpark\,Schierker Str. 8\,12051 Neukölln\,Germany
SUMMARY:Architecture of Hidden Activity  - Die physische Dimension des Digi
 talen
URL:http://sozialatlas-neukoelln.de/index.php?option=com_jem&view=event&id=
 30:architecture-of-hidden-activity-die-physische-dimension-des-digitalen
END:VEVENT
BEGIN:VEVENT
UID:event30@Sozialatlas Neukölln
DTSTAMP:20260421T092325Z
CATEGORIES:Austellungen
DESCRIPTION:Architecture of Hidden Activity  - Die physische Dimension des 
 Digitalen\nKategorie: Austellungen\nICS-Link: http://sozialatlas-neukoelln
 .de/index.php?option=com_jem&view=event&id=30:architecture-of-hidden-activ
 ity-die-physische-dimension-des-digitalen\n
DTSTART;TZID=Europe/Berlin:20260429T100000
DTEND;TZID=Europe/Berlin:20260617T200000
LOCATION:Körnerpark\,Schierker Str. 8\,12051 Neukölln\,Germany
SUMMARY:Architecture of Hidden Activity  - Die physische Dimension des Digi
 talen
URL:http://sozialatlas-neukoelln.de/index.php?option=com_jem&view=event&id=
 30:architecture-of-hidden-activity-die-physische-dimension-des-digitalen
END:VEVENT
BEGIN:VEVENT
UID:event30@Sozialatlas Neukölln
DTSTAMP:20260421T092325Z
CATEGORIES:Austellungen
DESCRIPTION:Architecture of Hidden Activity  - Die physische Dimension des 
 Digitalen\nKategorie: Austellungen\nICS-Link: http://sozialatlas-neukoelln
 .de/index.php?option=com_jem&view=event&id=30:architecture-of-hidden-activ
 ity-die-physische-dimension-des-digitalen\n
DTSTART;TZID=Europe/Berlin:20260430T100000
DTEND;TZID=Europe/Berlin:20260617T200000
LOCATION:Körnerpark\,Schierker Str. 8\,12051 Neukölln\,Germany
SUMMARY:Architecture of Hidden Activity  - Die physische Dimension des Digi
 talen
URL:http://sozialatlas-neukoelln.de/index.php?option=com_jem&view=event&id=
 30:architecture-of-hidden-activity-die-physische-dimension-des-digitalen
END:VEVENT
END:VCALENDAR