BEGIN:VCALENDAR
VERSION:2.0
PRODID:-//217.160.0.216//NONSGML kigkonsult.se iCalcreator 2.20//
CALSCALE:GREGORIAN
METHOD:PUBLISH
X-WR-TIMEZONE:Europe/Berlin
BEGIN:VEVENT
UID:event97@Sozialatlas Neukölln
DTSTAMP:20260421T090639Z
CATEGORIES:Austellungen
DESCRIPTION:'dieser Feind steht rechts!“ - Der Kampf gegen den Nationalsozi
 alismus vor 1933 - Sonderausstellung\nKategorie: Austellungen\nICS-Link: h
 ttp://sozialatlas-neukoelln.de/index.php?option=com_jem&view=event&id=97:d
 ieser-feind-steht-rechts-der-kampf-gegen-den-nationalsozialismus-vor-1933
 \n
DTSTART;VALUE=DATE:20260122
DTEND;VALUE=DATE:20260824
LOCATION:Gedenkstätte Deutscher Widerstand\,Stauffenbergstraße 13 - 14\,107
 85 Berlin\,Germany
SUMMARY:'dieser Feind steht rechts!“ - Der Kampf gegen den Nationalsozialis
 mus vor 1933 - Sonderausstellung
URL:http://sozialatlas-neukoelln.de/index.php?option=com_jem&view=event&id=
 97:dieser-feind-steht-rechts-der-kampf-gegen-den-nationalsozialismus-vor-1
 933
END:VEVENT
BEGIN:VEVENT
UID:event97@Sozialatlas Neukölln
DTSTAMP:20260421T090639Z
CATEGORIES:Austellungen
DESCRIPTION:'dieser Feind steht rechts!“ - Der Kampf gegen den Nationalsozi
 alismus vor 1933 - Sonderausstellung\nKategorie: Austellungen\nICS-Link: h
 ttp://sozialatlas-neukoelln.de/index.php?option=com_jem&view=event&id=97:d
 ieser-feind-steht-rechts-der-kampf-gegen-den-nationalsozialismus-vor-1933
 \n
DTSTART;VALUE=DATE:20260401
DTEND;VALUE=DATE:20260824
LOCATION:Gedenkstätte Deutscher Widerstand\,Stauffenbergstraße 13 - 14\,107
 85 Berlin\,Germany
SUMMARY:'dieser Feind steht rechts!“ - Der Kampf gegen den Nationalsozialis
 mus vor 1933 - Sonderausstellung
URL:http://sozialatlas-neukoelln.de/index.php?option=com_jem&view=event&id=
 97:dieser-feind-steht-rechts-der-kampf-gegen-den-nationalsozialismus-vor-1
 933
END:VEVENT
BEGIN:VEVENT
UID:event97@Sozialatlas Neukölln
DTSTAMP:20260421T090639Z
CATEGORIES:Austellungen
DESCRIPTION:'dieser Feind steht rechts!“ - Der Kampf gegen den Nationalsozi
 alismus vor 1933 - Sonderausstellung\nKategorie: Austellungen\nICS-Link: h
 ttp://sozialatlas-neukoelln.de/index.php?option=com_jem&view=event&id=97:d
 ieser-feind-steht-rechts-der-kampf-gegen-den-nationalsozialismus-vor-1933
 \n
DTSTART;VALUE=DATE:20260402
DTEND;VALUE=DATE:20260824
LOCATION:Gedenkstätte Deutscher Widerstand\,Stauffenbergstraße 13 - 14\,107
 85 Berlin\,Germany
SUMMARY:'dieser Feind steht rechts!“ - Der Kampf gegen den Nationalsozialis
 mus vor 1933 - Sonderausstellung
URL:http://sozialatlas-neukoelln.de/index.php?option=com_jem&view=event&id=
 97:dieser-feind-steht-rechts-der-kampf-gegen-den-nationalsozialismus-vor-1
 933
END:VEVENT
BEGIN:VEVENT
UID:event97@Sozialatlas Neukölln
DTSTAMP:20260421T090639Z
CATEGORIES:Austellungen
DESCRIPTION:'dieser Feind steht rechts!“ - Der Kampf gegen den Nationalsozi
 alismus vor 1933 - Sonderausstellung\nKategorie: Austellungen\nICS-Link: h
 ttp://sozialatlas-neukoelln.de/index.php?option=com_jem&view=event&id=97:d
 ieser-feind-steht-rechts-der-kampf-gegen-den-nationalsozialismus-vor-1933
 \n
DTSTART;VALUE=DATE:20260403
DTEND;VALUE=DATE:20260824
LOCATION:Gedenkstätte Deutscher Widerstand\,Stauffenbergstraße 13 - 14\,107
 85 Berlin\,Germany
SUMMARY:'dieser Feind steht rechts!“ - Der Kampf gegen den Nationalsozialis
 mus vor 1933 - Sonderausstellung
URL:http://sozialatlas-neukoelln.de/index.php?option=com_jem&view=event&id=
 97:dieser-feind-steht-rechts-der-kampf-gegen-den-nationalsozialismus-vor-1
 933
END:VEVENT
BEGIN:VEVENT
UID:event97@Sozialatlas Neukölln
DTSTAMP:20260421T090639Z
CATEGORIES:Austellungen
DESCRIPTION:'dieser Feind steht rechts!“ - Der Kampf gegen den Nationalsozi
 alismus vor 1933 - Sonderausstellung\nKategorie: Austellungen\nICS-Link: h
 ttp://sozialatlas-neukoelln.de/index.php?option=com_jem&view=event&id=97:d
 ieser-feind-steht-rechts-der-kampf-gegen-den-nationalsozialismus-vor-1933
 \n
DTSTART;VALUE=DATE:20260404
DTEND;VALUE=DATE:20260824
LOCATION:Gedenkstätte Deutscher Widerstand\,Stauffenbergstraße 13 - 14\,107
 85 Berlin\,Germany
SUMMARY:'dieser Feind steht rechts!“ - Der Kampf gegen den Nationalsozialis
 mus vor 1933 - Sonderausstellung
URL:http://sozialatlas-neukoelln.de/index.php?option=com_jem&view=event&id=
 97:dieser-feind-steht-rechts-der-kampf-gegen-den-nationalsozialismus-vor-1
 933
END:VEVENT
BEGIN:VEVENT
UID:event97@Sozialatlas Neukölln
DTSTAMP:20260421T090639Z
CATEGORIES:Austellungen
DESCRIPTION:'dieser Feind steht rechts!“ - Der Kampf gegen den Nationalsozi
 alismus vor 1933 - Sonderausstellung\nKategorie: Austellungen\nICS-Link: h
 ttp://sozialatlas-neukoelln.de/index.php?option=com_jem&view=event&id=97:d
 ieser-feind-steht-rechts-der-kampf-gegen-den-nationalsozialismus-vor-1933
 \n
DTSTART;VALUE=DATE:20260405
DTEND;VALUE=DATE:20260824
LOCATION:Gedenkstätte Deutscher Widerstand\,Stauffenbergstraße 13 - 14\,107
 85 Berlin\,Germany
SUMMARY:'dieser Feind steht rechts!“ - Der Kampf gegen den Nationalsozialis
 mus vor 1933 - Sonderausstellung
URL:http://sozialatlas-neukoelln.de/index.php?option=com_jem&view=event&id=
 97:dieser-feind-steht-rechts-der-kampf-gegen-den-nationalsozialismus-vor-1
 933
END:VEVENT
BEGIN:VEVENT
UID:event97@Sozialatlas Neukölln
DTSTAMP:20260421T090639Z
CATEGORIES:Austellungen
DESCRIPTION:'dieser Feind steht rechts!“ - Der Kampf gegen den Nationalsozi
 alismus vor 1933 - Sonderausstellung\nKategorie: Austellungen\nICS-Link: h
 ttp://sozialatlas-neukoelln.de/index.php?option=com_jem&view=event&id=97:d
 ieser-feind-steht-rechts-der-kampf-gegen-den-nationalsozialismus-vor-1933
 \n
DTSTART;VALUE=DATE:20260406
DTEND;VALUE=DATE:20260824
LOCATION:Gedenkstätte Deutscher Widerstand\,Stauffenbergstraße 13 - 14\,107
 85 Berlin\,Germany
SUMMARY:'dieser Feind steht rechts!“ - Der Kampf gegen den Nationalsozialis
 mus vor 1933 - Sonderausstellung
URL:http://sozialatlas-neukoelln.de/index.php?option=com_jem&view=event&id=
 97:dieser-feind-steht-rechts-der-kampf-gegen-den-nationalsozialismus-vor-1
 933
END:VEVENT
BEGIN:VEVENT
UID:event97@Sozialatlas Neukölln
DTSTAMP:20260421T090639Z
CATEGORIES:Austellungen
DESCRIPTION:'dieser Feind steht rechts!“ - Der Kampf gegen den Nationalsozi
 alismus vor 1933 - Sonderausstellung\nKategorie: Austellungen\nICS-Link: h
 ttp://sozialatlas-neukoelln.de/index.php?option=com_jem&view=event&id=97:d
 ieser-feind-steht-rechts-der-kampf-gegen-den-nationalsozialismus-vor-1933
 \n
DTSTART;VALUE=DATE:20260407
DTEND;VALUE=DATE:20260824
LOCATION:Gedenkstätte Deutscher Widerstand\,Stauffenbergstraße 13 - 14\,107
 85 Berlin\,Germany
SUMMARY:'dieser Feind steht rechts!“ - Der Kampf gegen den Nationalsozialis
 mus vor 1933 - Sonderausstellung
URL:http://sozialatlas-neukoelln.de/index.php?option=com_jem&view=event&id=
 97:dieser-feind-steht-rechts-der-kampf-gegen-den-nationalsozialismus-vor-1
 933
END:VEVENT
BEGIN:VEVENT
UID:event97@Sozialatlas Neukölln
DTSTAMP:20260421T090639Z
CATEGORIES:Austellungen
DESCRIPTION:'dieser Feind steht rechts!“ - Der Kampf gegen den Nationalsozi
 alismus vor 1933 - Sonderausstellung\nKategorie: Austellungen\nICS-Link: h
 ttp://sozialatlas-neukoelln.de/index.php?option=com_jem&view=event&id=97:d
 ieser-feind-steht-rechts-der-kampf-gegen-den-nationalsozialismus-vor-1933
 \n
DTSTART;VALUE=DATE:20260408
DTEND;VALUE=DATE:20260824
LOCATION:Gedenkstätte Deutscher Widerstand\,Stauffenbergstraße 13 - 14\,107
 85 Berlin\,Germany
SUMMARY:'dieser Feind steht rechts!“ - Der Kampf gegen den Nationalsozialis
 mus vor 1933 - Sonderausstellung
URL:http://sozialatlas-neukoelln.de/index.php?option=com_jem&view=event&id=
 97:dieser-feind-steht-rechts-der-kampf-gegen-den-nationalsozialismus-vor-1
 933
END:VEVENT
BEGIN:VEVENT
UID:event97@Sozialatlas Neukölln
DTSTAMP:20260421T090639Z
CATEGORIES:Austellungen
DESCRIPTION:'dieser Feind steht rechts!“ - Der Kampf gegen den Nationalsozi
 alismus vor 1933 - Sonderausstellung\nKategorie: Austellungen\nICS-Link: h
 ttp://sozialatlas-neukoelln.de/index.php?option=com_jem&view=event&id=97:d
 ieser-feind-steht-rechts-der-kampf-gegen-den-nationalsozialismus-vor-1933
 \n
DTSTART;VALUE=DATE:20260409
DTEND;VALUE=DATE:20260824
LOCATION:Gedenkstätte Deutscher Widerstand\,Stauffenbergstraße 13 - 14\,107
 85 Berlin\,Germany
SUMMARY:'dieser Feind steht rechts!“ - Der Kampf gegen den Nationalsozialis
 mus vor 1933 - Sonderausstellung
URL:http://sozialatlas-neukoelln.de/index.php?option=com_jem&view=event&id=
 97:dieser-feind-steht-rechts-der-kampf-gegen-den-nationalsozialismus-vor-1
 933
END:VEVENT
BEGIN:VEVENT
UID:event97@Sozialatlas Neukölln
DTSTAMP:20260421T090639Z
CATEGORIES:Austellungen
DESCRIPTION:'dieser Feind steht rechts!“ - Der Kampf gegen den Nationalsozi
 alismus vor 1933 - Sonderausstellung\nKategorie: Austellungen\nICS-Link: h
 ttp://sozialatlas-neukoelln.de/index.php?option=com_jem&view=event&id=97:d
 ieser-feind-steht-rechts-der-kampf-gegen-den-nationalsozialismus-vor-1933
 \n
DTSTART;VALUE=DATE:20260410
DTEND;VALUE=DATE:20260824
LOCATION:Gedenkstätte Deutscher Widerstand\,Stauffenbergstraße 13 - 14\,107
 85 Berlin\,Germany
SUMMARY:'dieser Feind steht rechts!“ - Der Kampf gegen den Nationalsozialis
 mus vor 1933 - Sonderausstellung
URL:http://sozialatlas-neukoelln.de/index.php?option=com_jem&view=event&id=
 97:dieser-feind-steht-rechts-der-kampf-gegen-den-nationalsozialismus-vor-1
 933
END:VEVENT
BEGIN:VEVENT
UID:event97@Sozialatlas Neukölln
DTSTAMP:20260421T090639Z
CATEGORIES:Austellungen
DESCRIPTION:'dieser Feind steht rechts!“ - Der Kampf gegen den Nationalsozi
 alismus vor 1933 - Sonderausstellung\nKategorie: Austellungen\nICS-Link: h
 ttp://sozialatlas-neukoelln.de/index.php?option=com_jem&view=event&id=97:d
 ieser-feind-steht-rechts-der-kampf-gegen-den-nationalsozialismus-vor-1933
 \n
DTSTART;VALUE=DATE:20260411
DTEND;VALUE=DATE:20260824
LOCATION:Gedenkstätte Deutscher Widerstand\,Stauffenbergstraße 13 - 14\,107
 85 Berlin\,Germany
SUMMARY:'dieser Feind steht rechts!“ - Der Kampf gegen den Nationalsozialis
 mus vor 1933 - Sonderausstellung
URL:http://sozialatlas-neukoelln.de/index.php?option=com_jem&view=event&id=
 97:dieser-feind-steht-rechts-der-kampf-gegen-den-nationalsozialismus-vor-1
 933
END:VEVENT
BEGIN:VEVENT
UID:event97@Sozialatlas Neukölln
DTSTAMP:20260421T090639Z
CATEGORIES:Austellungen
DESCRIPTION:'dieser Feind steht rechts!“ - Der Kampf gegen den Nationalsozi
 alismus vor 1933 - Sonderausstellung\nKategorie: Austellungen\nICS-Link: h
 ttp://sozialatlas-neukoelln.de/index.php?option=com_jem&view=event&id=97:d
 ieser-feind-steht-rechts-der-kampf-gegen-den-nationalsozialismus-vor-1933
 \n
DTSTART;VALUE=DATE:20260412
DTEND;VALUE=DATE:20260824
LOCATION:Gedenkstätte Deutscher Widerstand\,Stauffenbergstraße 13 - 14\,107
 85 Berlin\,Germany
SUMMARY:'dieser Feind steht rechts!“ - Der Kampf gegen den Nationalsozialis
 mus vor 1933 - Sonderausstellung
URL:http://sozialatlas-neukoelln.de/index.php?option=com_jem&view=event&id=
 97:dieser-feind-steht-rechts-der-kampf-gegen-den-nationalsozialismus-vor-1
 933
END:VEVENT
BEGIN:VEVENT
UID:event97@Sozialatlas Neukölln
DTSTAMP:20260421T090639Z
CATEGORIES:Austellungen
DESCRIPTION:'dieser Feind steht rechts!“ - Der Kampf gegen den Nationalsozi
 alismus vor 1933 - Sonderausstellung\nKategorie: Austellungen\nICS-Link: h
 ttp://sozialatlas-neukoelln.de/index.php?option=com_jem&view=event&id=97:d
 ieser-feind-steht-rechts-der-kampf-gegen-den-nationalsozialismus-vor-1933
 \n
DTSTART;VALUE=DATE:20260413
DTEND;VALUE=DATE:20260824
LOCATION:Gedenkstätte Deutscher Widerstand\,Stauffenbergstraße 13 - 14\,107
 85 Berlin\,Germany
SUMMARY:'dieser Feind steht rechts!“ - Der Kampf gegen den Nationalsozialis
 mus vor 1933 - Sonderausstellung
URL:http://sozialatlas-neukoelln.de/index.php?option=com_jem&view=event&id=
 97:dieser-feind-steht-rechts-der-kampf-gegen-den-nationalsozialismus-vor-1
 933
END:VEVENT
BEGIN:VEVENT
UID:event97@Sozialatlas Neukölln
DTSTAMP:20260421T090639Z
CATEGORIES:Austellungen
DESCRIPTION:'dieser Feind steht rechts!“ - Der Kampf gegen den Nationalsozi
 alismus vor 1933 - Sonderausstellung\nKategorie: Austellungen\nICS-Link: h
 ttp://sozialatlas-neukoelln.de/index.php?option=com_jem&view=event&id=97:d
 ieser-feind-steht-rechts-der-kampf-gegen-den-nationalsozialismus-vor-1933
 \n
DTSTART;VALUE=DATE:20260414
DTEND;VALUE=DATE:20260824
LOCATION:Gedenkstätte Deutscher Widerstand\,Stauffenbergstraße 13 - 14\,107
 85 Berlin\,Germany
SUMMARY:'dieser Feind steht rechts!“ - Der Kampf gegen den Nationalsozialis
 mus vor 1933 - Sonderausstellung
URL:http://sozialatlas-neukoelln.de/index.php?option=com_jem&view=event&id=
 97:dieser-feind-steht-rechts-der-kampf-gegen-den-nationalsozialismus-vor-1
 933
END:VEVENT
BEGIN:VEVENT
UID:event97@Sozialatlas Neukölln
DTSTAMP:20260421T090639Z
CATEGORIES:Austellungen
DESCRIPTION:'dieser Feind steht rechts!“ - Der Kampf gegen den Nationalsozi
 alismus vor 1933 - Sonderausstellung\nKategorie: Austellungen\nICS-Link: h
 ttp://sozialatlas-neukoelln.de/index.php?option=com_jem&view=event&id=97:d
 ieser-feind-steht-rechts-der-kampf-gegen-den-nationalsozialismus-vor-1933
 \n
DTSTART;VALUE=DATE:20260415
DTEND;VALUE=DATE:20260824
LOCATION:Gedenkstätte Deutscher Widerstand\,Stauffenbergstraße 13 - 14\,107
 85 Berlin\,Germany
SUMMARY:'dieser Feind steht rechts!“ - Der Kampf gegen den Nationalsozialis
 mus vor 1933 - Sonderausstellung
URL:http://sozialatlas-neukoelln.de/index.php?option=com_jem&view=event&id=
 97:dieser-feind-steht-rechts-der-kampf-gegen-den-nationalsozialismus-vor-1
 933
END:VEVENT
BEGIN:VEVENT
UID:event97@Sozialatlas Neukölln
DTSTAMP:20260421T090639Z
CATEGORIES:Austellungen
DESCRIPTION:'dieser Feind steht rechts!“ - Der Kampf gegen den Nationalsozi
 alismus vor 1933 - Sonderausstellung\nKategorie: Austellungen\nICS-Link: h
 ttp://sozialatlas-neukoelln.de/index.php?option=com_jem&view=event&id=97:d
 ieser-feind-steht-rechts-der-kampf-gegen-den-nationalsozialismus-vor-1933
 \n
DTSTART;VALUE=DATE:20260416
DTEND;VALUE=DATE:20260824
LOCATION:Gedenkstätte Deutscher Widerstand\,Stauffenbergstraße 13 - 14\,107
 85 Berlin\,Germany
SUMMARY:'dieser Feind steht rechts!“ - Der Kampf gegen den Nationalsozialis
 mus vor 1933 - Sonderausstellung
URL:http://sozialatlas-neukoelln.de/index.php?option=com_jem&view=event&id=
 97:dieser-feind-steht-rechts-der-kampf-gegen-den-nationalsozialismus-vor-1
 933
END:VEVENT
BEGIN:VEVENT
UID:event97@Sozialatlas Neukölln
DTSTAMP:20260421T090639Z
CATEGORIES:Austellungen
DESCRIPTION:'dieser Feind steht rechts!“ - Der Kampf gegen den Nationalsozi
 alismus vor 1933 - Sonderausstellung\nKategorie: Austellungen\nICS-Link: h
 ttp://sozialatlas-neukoelln.de/index.php?option=com_jem&view=event&id=97:d
 ieser-feind-steht-rechts-der-kampf-gegen-den-nationalsozialismus-vor-1933
 \n
DTSTART;VALUE=DATE:20260417
DTEND;VALUE=DATE:20260824
LOCATION:Gedenkstätte Deutscher Widerstand\,Stauffenbergstraße 13 - 14\,107
 85 Berlin\,Germany
SUMMARY:'dieser Feind steht rechts!“ - Der Kampf gegen den Nationalsozialis
 mus vor 1933 - Sonderausstellung
URL:http://sozialatlas-neukoelln.de/index.php?option=com_jem&view=event&id=
 97:dieser-feind-steht-rechts-der-kampf-gegen-den-nationalsozialismus-vor-1
 933
END:VEVENT
BEGIN:VEVENT
UID:event97@Sozialatlas Neukölln
DTSTAMP:20260421T090639Z
CATEGORIES:Austellungen
DESCRIPTION:'dieser Feind steht rechts!“ - Der Kampf gegen den Nationalsozi
 alismus vor 1933 - Sonderausstellung\nKategorie: Austellungen\nICS-Link: h
 ttp://sozialatlas-neukoelln.de/index.php?option=com_jem&view=event&id=97:d
 ieser-feind-steht-rechts-der-kampf-gegen-den-nationalsozialismus-vor-1933
 \n
DTSTART;VALUE=DATE:20260418
DTEND;VALUE=DATE:20260824
LOCATION:Gedenkstätte Deutscher Widerstand\,Stauffenbergstraße 13 - 14\,107
 85 Berlin\,Germany
SUMMARY:'dieser Feind steht rechts!“ - Der Kampf gegen den Nationalsozialis
 mus vor 1933 - Sonderausstellung
URL:http://sozialatlas-neukoelln.de/index.php?option=com_jem&view=event&id=
 97:dieser-feind-steht-rechts-der-kampf-gegen-den-nationalsozialismus-vor-1
 933
END:VEVENT
BEGIN:VEVENT
UID:event97@Sozialatlas Neukölln
DTSTAMP:20260421T090639Z
CATEGORIES:Austellungen
DESCRIPTION:'dieser Feind steht rechts!“ - Der Kampf gegen den Nationalsozi
 alismus vor 1933 - Sonderausstellung\nKategorie: Austellungen\nICS-Link: h
 ttp://sozialatlas-neukoelln.de/index.php?option=com_jem&view=event&id=97:d
 ieser-feind-steht-rechts-der-kampf-gegen-den-nationalsozialismus-vor-1933
 \n
DTSTART;VALUE=DATE:20260419
DTEND;VALUE=DATE:20260824
LOCATION:Gedenkstätte Deutscher Widerstand\,Stauffenbergstraße 13 - 14\,107
 85 Berlin\,Germany
SUMMARY:'dieser Feind steht rechts!“ - Der Kampf gegen den Nationalsozialis
 mus vor 1933 - Sonderausstellung
URL:http://sozialatlas-neukoelln.de/index.php?option=com_jem&view=event&id=
 97:dieser-feind-steht-rechts-der-kampf-gegen-den-nationalsozialismus-vor-1
 933
END:VEVENT
BEGIN:VEVENT
UID:event97@Sozialatlas Neukölln
DTSTAMP:20260421T090639Z
CATEGORIES:Austellungen
DESCRIPTION:'dieser Feind steht rechts!“ - Der Kampf gegen den Nationalsozi
 alismus vor 1933 - Sonderausstellung\nKategorie: Austellungen\nICS-Link: h
 ttp://sozialatlas-neukoelln.de/index.php?option=com_jem&view=event&id=97:d
 ieser-feind-steht-rechts-der-kampf-gegen-den-nationalsozialismus-vor-1933
 \n
DTSTART;VALUE=DATE:20260420
DTEND;VALUE=DATE:20260824
LOCATION:Gedenkstätte Deutscher Widerstand\,Stauffenbergstraße 13 - 14\,107
 85 Berlin\,Germany
SUMMARY:'dieser Feind steht rechts!“ - Der Kampf gegen den Nationalsozialis
 mus vor 1933 - Sonderausstellung
URL:http://sozialatlas-neukoelln.de/index.php?option=com_jem&view=event&id=
 97:dieser-feind-steht-rechts-der-kampf-gegen-den-nationalsozialismus-vor-1
 933
END:VEVENT
BEGIN:VEVENT
UID:event97@Sozialatlas Neukölln
DTSTAMP:20260421T090639Z
CATEGORIES:Austellungen
DESCRIPTION:'dieser Feind steht rechts!“ - Der Kampf gegen den Nationalsozi
 alismus vor 1933 - Sonderausstellung\nKategorie: Austellungen\nICS-Link: h
 ttp://sozialatlas-neukoelln.de/index.php?option=com_jem&view=event&id=97:d
 ieser-feind-steht-rechts-der-kampf-gegen-den-nationalsozialismus-vor-1933
 \n
DTSTART;VALUE=DATE:20260421
DTEND;VALUE=DATE:20260824
LOCATION:Gedenkstätte Deutscher Widerstand\,Stauffenbergstraße 13 - 14\,107
 85 Berlin\,Germany
SUMMARY:'dieser Feind steht rechts!“ - Der Kampf gegen den Nationalsozialis
 mus vor 1933 - Sonderausstellung
URL:http://sozialatlas-neukoelln.de/index.php?option=com_jem&view=event&id=
 97:dieser-feind-steht-rechts-der-kampf-gegen-den-nationalsozialismus-vor-1
 933
END:VEVENT
BEGIN:VEVENT
UID:event97@Sozialatlas Neukölln
DTSTAMP:20260421T090639Z
CATEGORIES:Austellungen
DESCRIPTION:'dieser Feind steht rechts!“ - Der Kampf gegen den Nationalsozi
 alismus vor 1933 - Sonderausstellung\nKategorie: Austellungen\nICS-Link: h
 ttp://sozialatlas-neukoelln.de/index.php?option=com_jem&view=event&id=97:d
 ieser-feind-steht-rechts-der-kampf-gegen-den-nationalsozialismus-vor-1933
 \n
DTSTART;VALUE=DATE:20260422
DTEND;VALUE=DATE:20260824
LOCATION:Gedenkstätte Deutscher Widerstand\,Stauffenbergstraße 13 - 14\,107
 85 Berlin\,Germany
SUMMARY:'dieser Feind steht rechts!“ - Der Kampf gegen den Nationalsozialis
 mus vor 1933 - Sonderausstellung
URL:http://sozialatlas-neukoelln.de/index.php?option=com_jem&view=event&id=
 97:dieser-feind-steht-rechts-der-kampf-gegen-den-nationalsozialismus-vor-1
 933
END:VEVENT
BEGIN:VEVENT
UID:event97@Sozialatlas Neukölln
DTSTAMP:20260421T090639Z
CATEGORIES:Austellungen
DESCRIPTION:'dieser Feind steht rechts!“ - Der Kampf gegen den Nationalsozi
 alismus vor 1933 - Sonderausstellung\nKategorie: Austellungen\nICS-Link: h
 ttp://sozialatlas-neukoelln.de/index.php?option=com_jem&view=event&id=97:d
 ieser-feind-steht-rechts-der-kampf-gegen-den-nationalsozialismus-vor-1933
 \n
DTSTART;VALUE=DATE:20260423
DTEND;VALUE=DATE:20260824
LOCATION:Gedenkstätte Deutscher Widerstand\,Stauffenbergstraße 13 - 14\,107
 85 Berlin\,Germany
SUMMARY:'dieser Feind steht rechts!“ - Der Kampf gegen den Nationalsozialis
 mus vor 1933 - Sonderausstellung
URL:http://sozialatlas-neukoelln.de/index.php?option=com_jem&view=event&id=
 97:dieser-feind-steht-rechts-der-kampf-gegen-den-nationalsozialismus-vor-1
 933
END:VEVENT
BEGIN:VEVENT
UID:event97@Sozialatlas Neukölln
DTSTAMP:20260421T090639Z
CATEGORIES:Austellungen
DESCRIPTION:'dieser Feind steht rechts!“ - Der Kampf gegen den Nationalsozi
 alismus vor 1933 - Sonderausstellung\nKategorie: Austellungen\nICS-Link: h
 ttp://sozialatlas-neukoelln.de/index.php?option=com_jem&view=event&id=97:d
 ieser-feind-steht-rechts-der-kampf-gegen-den-nationalsozialismus-vor-1933
 \n
DTSTART;VALUE=DATE:20260424
DTEND;VALUE=DATE:20260824
LOCATION:Gedenkstätte Deutscher Widerstand\,Stauffenbergstraße 13 - 14\,107
 85 Berlin\,Germany
SUMMARY:'dieser Feind steht rechts!“ - Der Kampf gegen den Nationalsozialis
 mus vor 1933 - Sonderausstellung
URL:http://sozialatlas-neukoelln.de/index.php?option=com_jem&view=event&id=
 97:dieser-feind-steht-rechts-der-kampf-gegen-den-nationalsozialismus-vor-1
 933
END:VEVENT
BEGIN:VEVENT
UID:event97@Sozialatlas Neukölln
DTSTAMP:20260421T090639Z
CATEGORIES:Austellungen
DESCRIPTION:'dieser Feind steht rechts!“ - Der Kampf gegen den Nationalsozi
 alismus vor 1933 - Sonderausstellung\nKategorie: Austellungen\nICS-Link: h
 ttp://sozialatlas-neukoelln.de/index.php?option=com_jem&view=event&id=97:d
 ieser-feind-steht-rechts-der-kampf-gegen-den-nationalsozialismus-vor-1933
 \n
DTSTART;VALUE=DATE:20260425
DTEND;VALUE=DATE:20260824
LOCATION:Gedenkstätte Deutscher Widerstand\,Stauffenbergstraße 13 - 14\,107
 85 Berlin\,Germany
SUMMARY:'dieser Feind steht rechts!“ - Der Kampf gegen den Nationalsozialis
 mus vor 1933 - Sonderausstellung
URL:http://sozialatlas-neukoelln.de/index.php?option=com_jem&view=event&id=
 97:dieser-feind-steht-rechts-der-kampf-gegen-den-nationalsozialismus-vor-1
 933
END:VEVENT
BEGIN:VEVENT
UID:event97@Sozialatlas Neukölln
DTSTAMP:20260421T090639Z
CATEGORIES:Austellungen
DESCRIPTION:'dieser Feind steht rechts!“ - Der Kampf gegen den Nationalsozi
 alismus vor 1933 - Sonderausstellung\nKategorie: Austellungen\nICS-Link: h
 ttp://sozialatlas-neukoelln.de/index.php?option=com_jem&view=event&id=97:d
 ieser-feind-steht-rechts-der-kampf-gegen-den-nationalsozialismus-vor-1933
 \n
DTSTART;VALUE=DATE:20260426
DTEND;VALUE=DATE:20260824
LOCATION:Gedenkstätte Deutscher Widerstand\,Stauffenbergstraße 13 - 14\,107
 85 Berlin\,Germany
SUMMARY:'dieser Feind steht rechts!“ - Der Kampf gegen den Nationalsozialis
 mus vor 1933 - Sonderausstellung
URL:http://sozialatlas-neukoelln.de/index.php?option=com_jem&view=event&id=
 97:dieser-feind-steht-rechts-der-kampf-gegen-den-nationalsozialismus-vor-1
 933
END:VEVENT
BEGIN:VEVENT
UID:event97@Sozialatlas Neukölln
DTSTAMP:20260421T090639Z
CATEGORIES:Austellungen
DESCRIPTION:'dieser Feind steht rechts!“ - Der Kampf gegen den Nationalsozi
 alismus vor 1933 - Sonderausstellung\nKategorie: Austellungen\nICS-Link: h
 ttp://sozialatlas-neukoelln.de/index.php?option=com_jem&view=event&id=97:d
 ieser-feind-steht-rechts-der-kampf-gegen-den-nationalsozialismus-vor-1933
 \n
DTSTART;VALUE=DATE:20260427
DTEND;VALUE=DATE:20260824
LOCATION:Gedenkstätte Deutscher Widerstand\,Stauffenbergstraße 13 - 14\,107
 85 Berlin\,Germany
SUMMARY:'dieser Feind steht rechts!“ - Der Kampf gegen den Nationalsozialis
 mus vor 1933 - Sonderausstellung
URL:http://sozialatlas-neukoelln.de/index.php?option=com_jem&view=event&id=
 97:dieser-feind-steht-rechts-der-kampf-gegen-den-nationalsozialismus-vor-1
 933
END:VEVENT
BEGIN:VEVENT
UID:event97@Sozialatlas Neukölln
DTSTAMP:20260421T090639Z
CATEGORIES:Austellungen
DESCRIPTION:'dieser Feind steht rechts!“ - Der Kampf gegen den Nationalsozi
 alismus vor 1933 - Sonderausstellung\nKategorie: Austellungen\nICS-Link: h
 ttp://sozialatlas-neukoelln.de/index.php?option=com_jem&view=event&id=97:d
 ieser-feind-steht-rechts-der-kampf-gegen-den-nationalsozialismus-vor-1933
 \n
DTSTART;VALUE=DATE:20260428
DTEND;VALUE=DATE:20260824
LOCATION:Gedenkstätte Deutscher Widerstand\,Stauffenbergstraße 13 - 14\,107
 85 Berlin\,Germany
SUMMARY:'dieser Feind steht rechts!“ - Der Kampf gegen den Nationalsozialis
 mus vor 1933 - Sonderausstellung
URL:http://sozialatlas-neukoelln.de/index.php?option=com_jem&view=event&id=
 97:dieser-feind-steht-rechts-der-kampf-gegen-den-nationalsozialismus-vor-1
 933
END:VEVENT
BEGIN:VEVENT
UID:event97@Sozialatlas Neukölln
DTSTAMP:20260421T090639Z
CATEGORIES:Austellungen
DESCRIPTION:'dieser Feind steht rechts!“ - Der Kampf gegen den Nationalsozi
 alismus vor 1933 - Sonderausstellung\nKategorie: Austellungen\nICS-Link: h
 ttp://sozialatlas-neukoelln.de/index.php?option=com_jem&view=event&id=97:d
 ieser-feind-steht-rechts-der-kampf-gegen-den-nationalsozialismus-vor-1933
 \n
DTSTART;VALUE=DATE:20260429
DTEND;VALUE=DATE:20260824
LOCATION:Gedenkstätte Deutscher Widerstand\,Stauffenbergstraße 13 - 14\,107
 85 Berlin\,Germany
SUMMARY:'dieser Feind steht rechts!“ - Der Kampf gegen den Nationalsozialis
 mus vor 1933 - Sonderausstellung
URL:http://sozialatlas-neukoelln.de/index.php?option=com_jem&view=event&id=
 97:dieser-feind-steht-rechts-der-kampf-gegen-den-nationalsozialismus-vor-1
 933
END:VEVENT
BEGIN:VEVENT
UID:event97@Sozialatlas Neukölln
DTSTAMP:20260421T090639Z
CATEGORIES:Austellungen
DESCRIPTION:'dieser Feind steht rechts!“ - Der Kampf gegen den Nationalsozi
 alismus vor 1933 - Sonderausstellung\nKategorie: Austellungen\nICS-Link: h
 ttp://sozialatlas-neukoelln.de/index.php?option=com_jem&view=event&id=97:d
 ieser-feind-steht-rechts-der-kampf-gegen-den-nationalsozialismus-vor-1933
 \n
DTSTART;VALUE=DATE:20260430
DTEND;VALUE=DATE:20260824
LOCATION:Gedenkstätte Deutscher Widerstand\,Stauffenbergstraße 13 - 14\,107
 85 Berlin\,Germany
SUMMARY:'dieser Feind steht rechts!“ - Der Kampf gegen den Nationalsozialis
 mus vor 1933 - Sonderausstellung
URL:http://sozialatlas-neukoelln.de/index.php?option=com_jem&view=event&id=
 97:dieser-feind-steht-rechts-der-kampf-gegen-den-nationalsozialismus-vor-1
 933
END:VEVENT
END:VCALENDAR