BEGIN:VCALENDAR
VERSION:2.0
PRODID:-//217.160.0.216//NONSGML kigkonsult.se iCalcreator 2.20//
CALSCALE:GREGORIAN
METHOD:PUBLISH
X-WR-TIMEZONE:Europe/Berlin
BEGIN:VEVENT
UID:event106@Sozialatlas Neukölln
DTSTAMP:20260421T090703Z
CATEGORIES:Austellungen
DESCRIPTION:Die Pazzi-Verschwörung - Macht\, Gewalt und Kunst im Florenz de
 r Renaissance\nKategorie: Austellungen\nICS-Link: http://sozialatlas-neuko
 elln.de/index.php?option=com_jem&view=event&id=106:die-pazzi-verschwoerung
 -macht-gewalt-und-kunst-im-florenz-der-renaissance\n
DTSTART;VALUE=DATE:20251024
DTEND;VALUE=DATE:20260921
LOCATION:Bode-Museum\,Am Kupfergraben\, Eingang über die Monbijoubrücke\,10
 178 Berlin\,Germany
SUMMARY:Die Pazzi-Verschwörung - Macht\, Gewalt und Kunst im Florenz der Re
 naissance
URL:http://sozialatlas-neukoelln.de/index.php?option=com_jem&view=event&id=
 106:die-pazzi-verschwoerung-macht-gewalt-und-kunst-im-florenz-der-renaissa
 nce
END:VEVENT
BEGIN:VEVENT
UID:event106@Sozialatlas Neukölln
DTSTAMP:20260421T090703Z
CATEGORIES:Austellungen
DESCRIPTION:Die Pazzi-Verschwörung - Macht\, Gewalt und Kunst im Florenz de
 r Renaissance\nKategorie: Austellungen\nICS-Link: http://sozialatlas-neuko
 elln.de/index.php?option=com_jem&view=event&id=106:die-pazzi-verschwoerung
 -macht-gewalt-und-kunst-im-florenz-der-renaissance\n
DTSTART;VALUE=DATE:20260401
DTEND;VALUE=DATE:20260921
LOCATION:Bode-Museum\,Am Kupfergraben\, Eingang über die Monbijoubrücke\,10
 178 Berlin\,Germany
SUMMARY:Die Pazzi-Verschwörung - Macht\, Gewalt und Kunst im Florenz der Re
 naissance
URL:http://sozialatlas-neukoelln.de/index.php?option=com_jem&view=event&id=
 106:die-pazzi-verschwoerung-macht-gewalt-und-kunst-im-florenz-der-renaissa
 nce
END:VEVENT
BEGIN:VEVENT
UID:event106@Sozialatlas Neukölln
DTSTAMP:20260421T090703Z
CATEGORIES:Austellungen
DESCRIPTION:Die Pazzi-Verschwörung - Macht\, Gewalt und Kunst im Florenz de
 r Renaissance\nKategorie: Austellungen\nICS-Link: http://sozialatlas-neuko
 elln.de/index.php?option=com_jem&view=event&id=106:die-pazzi-verschwoerung
 -macht-gewalt-und-kunst-im-florenz-der-renaissance\n
DTSTART;VALUE=DATE:20260402
DTEND;VALUE=DATE:20260921
LOCATION:Bode-Museum\,Am Kupfergraben\, Eingang über die Monbijoubrücke\,10
 178 Berlin\,Germany
SUMMARY:Die Pazzi-Verschwörung - Macht\, Gewalt und Kunst im Florenz der Re
 naissance
URL:http://sozialatlas-neukoelln.de/index.php?option=com_jem&view=event&id=
 106:die-pazzi-verschwoerung-macht-gewalt-und-kunst-im-florenz-der-renaissa
 nce
END:VEVENT
BEGIN:VEVENT
UID:event106@Sozialatlas Neukölln
DTSTAMP:20260421T090703Z
CATEGORIES:Austellungen
DESCRIPTION:Die Pazzi-Verschwörung - Macht\, Gewalt und Kunst im Florenz de
 r Renaissance\nKategorie: Austellungen\nICS-Link: http://sozialatlas-neuko
 elln.de/index.php?option=com_jem&view=event&id=106:die-pazzi-verschwoerung
 -macht-gewalt-und-kunst-im-florenz-der-renaissance\n
DTSTART;VALUE=DATE:20260403
DTEND;VALUE=DATE:20260921
LOCATION:Bode-Museum\,Am Kupfergraben\, Eingang über die Monbijoubrücke\,10
 178 Berlin\,Germany
SUMMARY:Die Pazzi-Verschwörung - Macht\, Gewalt und Kunst im Florenz der Re
 naissance
URL:http://sozialatlas-neukoelln.de/index.php?option=com_jem&view=event&id=
 106:die-pazzi-verschwoerung-macht-gewalt-und-kunst-im-florenz-der-renaissa
 nce
END:VEVENT
BEGIN:VEVENT
UID:event106@Sozialatlas Neukölln
DTSTAMP:20260421T090703Z
CATEGORIES:Austellungen
DESCRIPTION:Die Pazzi-Verschwörung - Macht\, Gewalt und Kunst im Florenz de
 r Renaissance\nKategorie: Austellungen\nICS-Link: http://sozialatlas-neuko
 elln.de/index.php?option=com_jem&view=event&id=106:die-pazzi-verschwoerung
 -macht-gewalt-und-kunst-im-florenz-der-renaissance\n
DTSTART;VALUE=DATE:20260404
DTEND;VALUE=DATE:20260921
LOCATION:Bode-Museum\,Am Kupfergraben\, Eingang über die Monbijoubrücke\,10
 178 Berlin\,Germany
SUMMARY:Die Pazzi-Verschwörung - Macht\, Gewalt und Kunst im Florenz der Re
 naissance
URL:http://sozialatlas-neukoelln.de/index.php?option=com_jem&view=event&id=
 106:die-pazzi-verschwoerung-macht-gewalt-und-kunst-im-florenz-der-renaissa
 nce
END:VEVENT
BEGIN:VEVENT
UID:event106@Sozialatlas Neukölln
DTSTAMP:20260421T090703Z
CATEGORIES:Austellungen
DESCRIPTION:Die Pazzi-Verschwörung - Macht\, Gewalt und Kunst im Florenz de
 r Renaissance\nKategorie: Austellungen\nICS-Link: http://sozialatlas-neuko
 elln.de/index.php?option=com_jem&view=event&id=106:die-pazzi-verschwoerung
 -macht-gewalt-und-kunst-im-florenz-der-renaissance\n
DTSTART;VALUE=DATE:20260405
DTEND;VALUE=DATE:20260921
LOCATION:Bode-Museum\,Am Kupfergraben\, Eingang über die Monbijoubrücke\,10
 178 Berlin\,Germany
SUMMARY:Die Pazzi-Verschwörung - Macht\, Gewalt und Kunst im Florenz der Re
 naissance
URL:http://sozialatlas-neukoelln.de/index.php?option=com_jem&view=event&id=
 106:die-pazzi-verschwoerung-macht-gewalt-und-kunst-im-florenz-der-renaissa
 nce
END:VEVENT
BEGIN:VEVENT
UID:event106@Sozialatlas Neukölln
DTSTAMP:20260421T090703Z
CATEGORIES:Austellungen
DESCRIPTION:Die Pazzi-Verschwörung - Macht\, Gewalt und Kunst im Florenz de
 r Renaissance\nKategorie: Austellungen\nICS-Link: http://sozialatlas-neuko
 elln.de/index.php?option=com_jem&view=event&id=106:die-pazzi-verschwoerung
 -macht-gewalt-und-kunst-im-florenz-der-renaissance\n
DTSTART;VALUE=DATE:20260406
DTEND;VALUE=DATE:20260921
LOCATION:Bode-Museum\,Am Kupfergraben\, Eingang über die Monbijoubrücke\,10
 178 Berlin\,Germany
SUMMARY:Die Pazzi-Verschwörung - Macht\, Gewalt und Kunst im Florenz der Re
 naissance
URL:http://sozialatlas-neukoelln.de/index.php?option=com_jem&view=event&id=
 106:die-pazzi-verschwoerung-macht-gewalt-und-kunst-im-florenz-der-renaissa
 nce
END:VEVENT
BEGIN:VEVENT
UID:event106@Sozialatlas Neukölln
DTSTAMP:20260421T090703Z
CATEGORIES:Austellungen
DESCRIPTION:Die Pazzi-Verschwörung - Macht\, Gewalt und Kunst im Florenz de
 r Renaissance\nKategorie: Austellungen\nICS-Link: http://sozialatlas-neuko
 elln.de/index.php?option=com_jem&view=event&id=106:die-pazzi-verschwoerung
 -macht-gewalt-und-kunst-im-florenz-der-renaissance\n
DTSTART;VALUE=DATE:20260407
DTEND;VALUE=DATE:20260921
LOCATION:Bode-Museum\,Am Kupfergraben\, Eingang über die Monbijoubrücke\,10
 178 Berlin\,Germany
SUMMARY:Die Pazzi-Verschwörung - Macht\, Gewalt und Kunst im Florenz der Re
 naissance
URL:http://sozialatlas-neukoelln.de/index.php?option=com_jem&view=event&id=
 106:die-pazzi-verschwoerung-macht-gewalt-und-kunst-im-florenz-der-renaissa
 nce
END:VEVENT
BEGIN:VEVENT
UID:event106@Sozialatlas Neukölln
DTSTAMP:20260421T090703Z
CATEGORIES:Austellungen
DESCRIPTION:Die Pazzi-Verschwörung - Macht\, Gewalt und Kunst im Florenz de
 r Renaissance\nKategorie: Austellungen\nICS-Link: http://sozialatlas-neuko
 elln.de/index.php?option=com_jem&view=event&id=106:die-pazzi-verschwoerung
 -macht-gewalt-und-kunst-im-florenz-der-renaissance\n
DTSTART;VALUE=DATE:20260408
DTEND;VALUE=DATE:20260921
LOCATION:Bode-Museum\,Am Kupfergraben\, Eingang über die Monbijoubrücke\,10
 178 Berlin\,Germany
SUMMARY:Die Pazzi-Verschwörung - Macht\, Gewalt und Kunst im Florenz der Re
 naissance
URL:http://sozialatlas-neukoelln.de/index.php?option=com_jem&view=event&id=
 106:die-pazzi-verschwoerung-macht-gewalt-und-kunst-im-florenz-der-renaissa
 nce
END:VEVENT
BEGIN:VEVENT
UID:event106@Sozialatlas Neukölln
DTSTAMP:20260421T090703Z
CATEGORIES:Austellungen
DESCRIPTION:Die Pazzi-Verschwörung - Macht\, Gewalt und Kunst im Florenz de
 r Renaissance\nKategorie: Austellungen\nICS-Link: http://sozialatlas-neuko
 elln.de/index.php?option=com_jem&view=event&id=106:die-pazzi-verschwoerung
 -macht-gewalt-und-kunst-im-florenz-der-renaissance\n
DTSTART;VALUE=DATE:20260409
DTEND;VALUE=DATE:20260921
LOCATION:Bode-Museum\,Am Kupfergraben\, Eingang über die Monbijoubrücke\,10
 178 Berlin\,Germany
SUMMARY:Die Pazzi-Verschwörung - Macht\, Gewalt und Kunst im Florenz der Re
 naissance
URL:http://sozialatlas-neukoelln.de/index.php?option=com_jem&view=event&id=
 106:die-pazzi-verschwoerung-macht-gewalt-und-kunst-im-florenz-der-renaissa
 nce
END:VEVENT
BEGIN:VEVENT
UID:event106@Sozialatlas Neukölln
DTSTAMP:20260421T090703Z
CATEGORIES:Austellungen
DESCRIPTION:Die Pazzi-Verschwörung - Macht\, Gewalt und Kunst im Florenz de
 r Renaissance\nKategorie: Austellungen\nICS-Link: http://sozialatlas-neuko
 elln.de/index.php?option=com_jem&view=event&id=106:die-pazzi-verschwoerung
 -macht-gewalt-und-kunst-im-florenz-der-renaissance\n
DTSTART;VALUE=DATE:20260410
DTEND;VALUE=DATE:20260921
LOCATION:Bode-Museum\,Am Kupfergraben\, Eingang über die Monbijoubrücke\,10
 178 Berlin\,Germany
SUMMARY:Die Pazzi-Verschwörung - Macht\, Gewalt und Kunst im Florenz der Re
 naissance
URL:http://sozialatlas-neukoelln.de/index.php?option=com_jem&view=event&id=
 106:die-pazzi-verschwoerung-macht-gewalt-und-kunst-im-florenz-der-renaissa
 nce
END:VEVENT
BEGIN:VEVENT
UID:event106@Sozialatlas Neukölln
DTSTAMP:20260421T090703Z
CATEGORIES:Austellungen
DESCRIPTION:Die Pazzi-Verschwörung - Macht\, Gewalt und Kunst im Florenz de
 r Renaissance\nKategorie: Austellungen\nICS-Link: http://sozialatlas-neuko
 elln.de/index.php?option=com_jem&view=event&id=106:die-pazzi-verschwoerung
 -macht-gewalt-und-kunst-im-florenz-der-renaissance\n
DTSTART;VALUE=DATE:20260411
DTEND;VALUE=DATE:20260921
LOCATION:Bode-Museum\,Am Kupfergraben\, Eingang über die Monbijoubrücke\,10
 178 Berlin\,Germany
SUMMARY:Die Pazzi-Verschwörung - Macht\, Gewalt und Kunst im Florenz der Re
 naissance
URL:http://sozialatlas-neukoelln.de/index.php?option=com_jem&view=event&id=
 106:die-pazzi-verschwoerung-macht-gewalt-und-kunst-im-florenz-der-renaissa
 nce
END:VEVENT
BEGIN:VEVENT
UID:event106@Sozialatlas Neukölln
DTSTAMP:20260421T090703Z
CATEGORIES:Austellungen
DESCRIPTION:Die Pazzi-Verschwörung - Macht\, Gewalt und Kunst im Florenz de
 r Renaissance\nKategorie: Austellungen\nICS-Link: http://sozialatlas-neuko
 elln.de/index.php?option=com_jem&view=event&id=106:die-pazzi-verschwoerung
 -macht-gewalt-und-kunst-im-florenz-der-renaissance\n
DTSTART;VALUE=DATE:20260412
DTEND;VALUE=DATE:20260921
LOCATION:Bode-Museum\,Am Kupfergraben\, Eingang über die Monbijoubrücke\,10
 178 Berlin\,Germany
SUMMARY:Die Pazzi-Verschwörung - Macht\, Gewalt und Kunst im Florenz der Re
 naissance
URL:http://sozialatlas-neukoelln.de/index.php?option=com_jem&view=event&id=
 106:die-pazzi-verschwoerung-macht-gewalt-und-kunst-im-florenz-der-renaissa
 nce
END:VEVENT
BEGIN:VEVENT
UID:event106@Sozialatlas Neukölln
DTSTAMP:20260421T090703Z
CATEGORIES:Austellungen
DESCRIPTION:Die Pazzi-Verschwörung - Macht\, Gewalt und Kunst im Florenz de
 r Renaissance\nKategorie: Austellungen\nICS-Link: http://sozialatlas-neuko
 elln.de/index.php?option=com_jem&view=event&id=106:die-pazzi-verschwoerung
 -macht-gewalt-und-kunst-im-florenz-der-renaissance\n
DTSTART;VALUE=DATE:20260413
DTEND;VALUE=DATE:20260921
LOCATION:Bode-Museum\,Am Kupfergraben\, Eingang über die Monbijoubrücke\,10
 178 Berlin\,Germany
SUMMARY:Die Pazzi-Verschwörung - Macht\, Gewalt und Kunst im Florenz der Re
 naissance
URL:http://sozialatlas-neukoelln.de/index.php?option=com_jem&view=event&id=
 106:die-pazzi-verschwoerung-macht-gewalt-und-kunst-im-florenz-der-renaissa
 nce
END:VEVENT
BEGIN:VEVENT
UID:event106@Sozialatlas Neukölln
DTSTAMP:20260421T090703Z
CATEGORIES:Austellungen
DESCRIPTION:Die Pazzi-Verschwörung - Macht\, Gewalt und Kunst im Florenz de
 r Renaissance\nKategorie: Austellungen\nICS-Link: http://sozialatlas-neuko
 elln.de/index.php?option=com_jem&view=event&id=106:die-pazzi-verschwoerung
 -macht-gewalt-und-kunst-im-florenz-der-renaissance\n
DTSTART;VALUE=DATE:20260414
DTEND;VALUE=DATE:20260921
LOCATION:Bode-Museum\,Am Kupfergraben\, Eingang über die Monbijoubrücke\,10
 178 Berlin\,Germany
SUMMARY:Die Pazzi-Verschwörung - Macht\, Gewalt und Kunst im Florenz der Re
 naissance
URL:http://sozialatlas-neukoelln.de/index.php?option=com_jem&view=event&id=
 106:die-pazzi-verschwoerung-macht-gewalt-und-kunst-im-florenz-der-renaissa
 nce
END:VEVENT
BEGIN:VEVENT
UID:event106@Sozialatlas Neukölln
DTSTAMP:20260421T090703Z
CATEGORIES:Austellungen
DESCRIPTION:Die Pazzi-Verschwörung - Macht\, Gewalt und Kunst im Florenz de
 r Renaissance\nKategorie: Austellungen\nICS-Link: http://sozialatlas-neuko
 elln.de/index.php?option=com_jem&view=event&id=106:die-pazzi-verschwoerung
 -macht-gewalt-und-kunst-im-florenz-der-renaissance\n
DTSTART;VALUE=DATE:20260415
DTEND;VALUE=DATE:20260921
LOCATION:Bode-Museum\,Am Kupfergraben\, Eingang über die Monbijoubrücke\,10
 178 Berlin\,Germany
SUMMARY:Die Pazzi-Verschwörung - Macht\, Gewalt und Kunst im Florenz der Re
 naissance
URL:http://sozialatlas-neukoelln.de/index.php?option=com_jem&view=event&id=
 106:die-pazzi-verschwoerung-macht-gewalt-und-kunst-im-florenz-der-renaissa
 nce
END:VEVENT
BEGIN:VEVENT
UID:event106@Sozialatlas Neukölln
DTSTAMP:20260421T090703Z
CATEGORIES:Austellungen
DESCRIPTION:Die Pazzi-Verschwörung - Macht\, Gewalt und Kunst im Florenz de
 r Renaissance\nKategorie: Austellungen\nICS-Link: http://sozialatlas-neuko
 elln.de/index.php?option=com_jem&view=event&id=106:die-pazzi-verschwoerung
 -macht-gewalt-und-kunst-im-florenz-der-renaissance\n
DTSTART;VALUE=DATE:20260416
DTEND;VALUE=DATE:20260921
LOCATION:Bode-Museum\,Am Kupfergraben\, Eingang über die Monbijoubrücke\,10
 178 Berlin\,Germany
SUMMARY:Die Pazzi-Verschwörung - Macht\, Gewalt und Kunst im Florenz der Re
 naissance
URL:http://sozialatlas-neukoelln.de/index.php?option=com_jem&view=event&id=
 106:die-pazzi-verschwoerung-macht-gewalt-und-kunst-im-florenz-der-renaissa
 nce
END:VEVENT
BEGIN:VEVENT
UID:event106@Sozialatlas Neukölln
DTSTAMP:20260421T090703Z
CATEGORIES:Austellungen
DESCRIPTION:Die Pazzi-Verschwörung - Macht\, Gewalt und Kunst im Florenz de
 r Renaissance\nKategorie: Austellungen\nICS-Link: http://sozialatlas-neuko
 elln.de/index.php?option=com_jem&view=event&id=106:die-pazzi-verschwoerung
 -macht-gewalt-und-kunst-im-florenz-der-renaissance\n
DTSTART;VALUE=DATE:20260417
DTEND;VALUE=DATE:20260921
LOCATION:Bode-Museum\,Am Kupfergraben\, Eingang über die Monbijoubrücke\,10
 178 Berlin\,Germany
SUMMARY:Die Pazzi-Verschwörung - Macht\, Gewalt und Kunst im Florenz der Re
 naissance
URL:http://sozialatlas-neukoelln.de/index.php?option=com_jem&view=event&id=
 106:die-pazzi-verschwoerung-macht-gewalt-und-kunst-im-florenz-der-renaissa
 nce
END:VEVENT
BEGIN:VEVENT
UID:event106@Sozialatlas Neukölln
DTSTAMP:20260421T090703Z
CATEGORIES:Austellungen
DESCRIPTION:Die Pazzi-Verschwörung - Macht\, Gewalt und Kunst im Florenz de
 r Renaissance\nKategorie: Austellungen\nICS-Link: http://sozialatlas-neuko
 elln.de/index.php?option=com_jem&view=event&id=106:die-pazzi-verschwoerung
 -macht-gewalt-und-kunst-im-florenz-der-renaissance\n
DTSTART;VALUE=DATE:20260418
DTEND;VALUE=DATE:20260921
LOCATION:Bode-Museum\,Am Kupfergraben\, Eingang über die Monbijoubrücke\,10
 178 Berlin\,Germany
SUMMARY:Die Pazzi-Verschwörung - Macht\, Gewalt und Kunst im Florenz der Re
 naissance
URL:http://sozialatlas-neukoelln.de/index.php?option=com_jem&view=event&id=
 106:die-pazzi-verschwoerung-macht-gewalt-und-kunst-im-florenz-der-renaissa
 nce
END:VEVENT
BEGIN:VEVENT
UID:event106@Sozialatlas Neukölln
DTSTAMP:20260421T090703Z
CATEGORIES:Austellungen
DESCRIPTION:Die Pazzi-Verschwörung - Macht\, Gewalt und Kunst im Florenz de
 r Renaissance\nKategorie: Austellungen\nICS-Link: http://sozialatlas-neuko
 elln.de/index.php?option=com_jem&view=event&id=106:die-pazzi-verschwoerung
 -macht-gewalt-und-kunst-im-florenz-der-renaissance\n
DTSTART;VALUE=DATE:20260419
DTEND;VALUE=DATE:20260921
LOCATION:Bode-Museum\,Am Kupfergraben\, Eingang über die Monbijoubrücke\,10
 178 Berlin\,Germany
SUMMARY:Die Pazzi-Verschwörung - Macht\, Gewalt und Kunst im Florenz der Re
 naissance
URL:http://sozialatlas-neukoelln.de/index.php?option=com_jem&view=event&id=
 106:die-pazzi-verschwoerung-macht-gewalt-und-kunst-im-florenz-der-renaissa
 nce
END:VEVENT
BEGIN:VEVENT
UID:event106@Sozialatlas Neukölln
DTSTAMP:20260421T090703Z
CATEGORIES:Austellungen
DESCRIPTION:Die Pazzi-Verschwörung - Macht\, Gewalt und Kunst im Florenz de
 r Renaissance\nKategorie: Austellungen\nICS-Link: http://sozialatlas-neuko
 elln.de/index.php?option=com_jem&view=event&id=106:die-pazzi-verschwoerung
 -macht-gewalt-und-kunst-im-florenz-der-renaissance\n
DTSTART;VALUE=DATE:20260420
DTEND;VALUE=DATE:20260921
LOCATION:Bode-Museum\,Am Kupfergraben\, Eingang über die Monbijoubrücke\,10
 178 Berlin\,Germany
SUMMARY:Die Pazzi-Verschwörung - Macht\, Gewalt und Kunst im Florenz der Re
 naissance
URL:http://sozialatlas-neukoelln.de/index.php?option=com_jem&view=event&id=
 106:die-pazzi-verschwoerung-macht-gewalt-und-kunst-im-florenz-der-renaissa
 nce
END:VEVENT
BEGIN:VEVENT
UID:event106@Sozialatlas Neukölln
DTSTAMP:20260421T090703Z
CATEGORIES:Austellungen
DESCRIPTION:Die Pazzi-Verschwörung - Macht\, Gewalt und Kunst im Florenz de
 r Renaissance\nKategorie: Austellungen\nICS-Link: http://sozialatlas-neuko
 elln.de/index.php?option=com_jem&view=event&id=106:die-pazzi-verschwoerung
 -macht-gewalt-und-kunst-im-florenz-der-renaissance\n
DTSTART;VALUE=DATE:20260421
DTEND;VALUE=DATE:20260921
LOCATION:Bode-Museum\,Am Kupfergraben\, Eingang über die Monbijoubrücke\,10
 178 Berlin\,Germany
SUMMARY:Die Pazzi-Verschwörung - Macht\, Gewalt und Kunst im Florenz der Re
 naissance
URL:http://sozialatlas-neukoelln.de/index.php?option=com_jem&view=event&id=
 106:die-pazzi-verschwoerung-macht-gewalt-und-kunst-im-florenz-der-renaissa
 nce
END:VEVENT
BEGIN:VEVENT
UID:event106@Sozialatlas Neukölln
DTSTAMP:20260421T090703Z
CATEGORIES:Austellungen
DESCRIPTION:Die Pazzi-Verschwörung - Macht\, Gewalt und Kunst im Florenz de
 r Renaissance\nKategorie: Austellungen\nICS-Link: http://sozialatlas-neuko
 elln.de/index.php?option=com_jem&view=event&id=106:die-pazzi-verschwoerung
 -macht-gewalt-und-kunst-im-florenz-der-renaissance\n
DTSTART;VALUE=DATE:20260422
DTEND;VALUE=DATE:20260921
LOCATION:Bode-Museum\,Am Kupfergraben\, Eingang über die Monbijoubrücke\,10
 178 Berlin\,Germany
SUMMARY:Die Pazzi-Verschwörung - Macht\, Gewalt und Kunst im Florenz der Re
 naissance
URL:http://sozialatlas-neukoelln.de/index.php?option=com_jem&view=event&id=
 106:die-pazzi-verschwoerung-macht-gewalt-und-kunst-im-florenz-der-renaissa
 nce
END:VEVENT
BEGIN:VEVENT
UID:event106@Sozialatlas Neukölln
DTSTAMP:20260421T090703Z
CATEGORIES:Austellungen
DESCRIPTION:Die Pazzi-Verschwörung - Macht\, Gewalt und Kunst im Florenz de
 r Renaissance\nKategorie: Austellungen\nICS-Link: http://sozialatlas-neuko
 elln.de/index.php?option=com_jem&view=event&id=106:die-pazzi-verschwoerung
 -macht-gewalt-und-kunst-im-florenz-der-renaissance\n
DTSTART;VALUE=DATE:20260423
DTEND;VALUE=DATE:20260921
LOCATION:Bode-Museum\,Am Kupfergraben\, Eingang über die Monbijoubrücke\,10
 178 Berlin\,Germany
SUMMARY:Die Pazzi-Verschwörung - Macht\, Gewalt und Kunst im Florenz der Re
 naissance
URL:http://sozialatlas-neukoelln.de/index.php?option=com_jem&view=event&id=
 106:die-pazzi-verschwoerung-macht-gewalt-und-kunst-im-florenz-der-renaissa
 nce
END:VEVENT
BEGIN:VEVENT
UID:event106@Sozialatlas Neukölln
DTSTAMP:20260421T090703Z
CATEGORIES:Austellungen
DESCRIPTION:Die Pazzi-Verschwörung - Macht\, Gewalt und Kunst im Florenz de
 r Renaissance\nKategorie: Austellungen\nICS-Link: http://sozialatlas-neuko
 elln.de/index.php?option=com_jem&view=event&id=106:die-pazzi-verschwoerung
 -macht-gewalt-und-kunst-im-florenz-der-renaissance\n
DTSTART;VALUE=DATE:20260424
DTEND;VALUE=DATE:20260921
LOCATION:Bode-Museum\,Am Kupfergraben\, Eingang über die Monbijoubrücke\,10
 178 Berlin\,Germany
SUMMARY:Die Pazzi-Verschwörung - Macht\, Gewalt und Kunst im Florenz der Re
 naissance
URL:http://sozialatlas-neukoelln.de/index.php?option=com_jem&view=event&id=
 106:die-pazzi-verschwoerung-macht-gewalt-und-kunst-im-florenz-der-renaissa
 nce
END:VEVENT
BEGIN:VEVENT
UID:event106@Sozialatlas Neukölln
DTSTAMP:20260421T090703Z
CATEGORIES:Austellungen
DESCRIPTION:Die Pazzi-Verschwörung - Macht\, Gewalt und Kunst im Florenz de
 r Renaissance\nKategorie: Austellungen\nICS-Link: http://sozialatlas-neuko
 elln.de/index.php?option=com_jem&view=event&id=106:die-pazzi-verschwoerung
 -macht-gewalt-und-kunst-im-florenz-der-renaissance\n
DTSTART;VALUE=DATE:20260425
DTEND;VALUE=DATE:20260921
LOCATION:Bode-Museum\,Am Kupfergraben\, Eingang über die Monbijoubrücke\,10
 178 Berlin\,Germany
SUMMARY:Die Pazzi-Verschwörung - Macht\, Gewalt und Kunst im Florenz der Re
 naissance
URL:http://sozialatlas-neukoelln.de/index.php?option=com_jem&view=event&id=
 106:die-pazzi-verschwoerung-macht-gewalt-und-kunst-im-florenz-der-renaissa
 nce
END:VEVENT
BEGIN:VEVENT
UID:event106@Sozialatlas Neukölln
DTSTAMP:20260421T090703Z
CATEGORIES:Austellungen
DESCRIPTION:Die Pazzi-Verschwörung - Macht\, Gewalt und Kunst im Florenz de
 r Renaissance\nKategorie: Austellungen\nICS-Link: http://sozialatlas-neuko
 elln.de/index.php?option=com_jem&view=event&id=106:die-pazzi-verschwoerung
 -macht-gewalt-und-kunst-im-florenz-der-renaissance\n
DTSTART;VALUE=DATE:20260426
DTEND;VALUE=DATE:20260921
LOCATION:Bode-Museum\,Am Kupfergraben\, Eingang über die Monbijoubrücke\,10
 178 Berlin\,Germany
SUMMARY:Die Pazzi-Verschwörung - Macht\, Gewalt und Kunst im Florenz der Re
 naissance
URL:http://sozialatlas-neukoelln.de/index.php?option=com_jem&view=event&id=
 106:die-pazzi-verschwoerung-macht-gewalt-und-kunst-im-florenz-der-renaissa
 nce
END:VEVENT
BEGIN:VEVENT
UID:event106@Sozialatlas Neukölln
DTSTAMP:20260421T090703Z
CATEGORIES:Austellungen
DESCRIPTION:Die Pazzi-Verschwörung - Macht\, Gewalt und Kunst im Florenz de
 r Renaissance\nKategorie: Austellungen\nICS-Link: http://sozialatlas-neuko
 elln.de/index.php?option=com_jem&view=event&id=106:die-pazzi-verschwoerung
 -macht-gewalt-und-kunst-im-florenz-der-renaissance\n
DTSTART;VALUE=DATE:20260427
DTEND;VALUE=DATE:20260921
LOCATION:Bode-Museum\,Am Kupfergraben\, Eingang über die Monbijoubrücke\,10
 178 Berlin\,Germany
SUMMARY:Die Pazzi-Verschwörung - Macht\, Gewalt und Kunst im Florenz der Re
 naissance
URL:http://sozialatlas-neukoelln.de/index.php?option=com_jem&view=event&id=
 106:die-pazzi-verschwoerung-macht-gewalt-und-kunst-im-florenz-der-renaissa
 nce
END:VEVENT
BEGIN:VEVENT
UID:event106@Sozialatlas Neukölln
DTSTAMP:20260421T090703Z
CATEGORIES:Austellungen
DESCRIPTION:Die Pazzi-Verschwörung - Macht\, Gewalt und Kunst im Florenz de
 r Renaissance\nKategorie: Austellungen\nICS-Link: http://sozialatlas-neuko
 elln.de/index.php?option=com_jem&view=event&id=106:die-pazzi-verschwoerung
 -macht-gewalt-und-kunst-im-florenz-der-renaissance\n
DTSTART;VALUE=DATE:20260428
DTEND;VALUE=DATE:20260921
LOCATION:Bode-Museum\,Am Kupfergraben\, Eingang über die Monbijoubrücke\,10
 178 Berlin\,Germany
SUMMARY:Die Pazzi-Verschwörung - Macht\, Gewalt und Kunst im Florenz der Re
 naissance
URL:http://sozialatlas-neukoelln.de/index.php?option=com_jem&view=event&id=
 106:die-pazzi-verschwoerung-macht-gewalt-und-kunst-im-florenz-der-renaissa
 nce
END:VEVENT
BEGIN:VEVENT
UID:event106@Sozialatlas Neukölln
DTSTAMP:20260421T090703Z
CATEGORIES:Austellungen
DESCRIPTION:Die Pazzi-Verschwörung - Macht\, Gewalt und Kunst im Florenz de
 r Renaissance\nKategorie: Austellungen\nICS-Link: http://sozialatlas-neuko
 elln.de/index.php?option=com_jem&view=event&id=106:die-pazzi-verschwoerung
 -macht-gewalt-und-kunst-im-florenz-der-renaissance\n
DTSTART;VALUE=DATE:20260429
DTEND;VALUE=DATE:20260921
LOCATION:Bode-Museum\,Am Kupfergraben\, Eingang über die Monbijoubrücke\,10
 178 Berlin\,Germany
SUMMARY:Die Pazzi-Verschwörung - Macht\, Gewalt und Kunst im Florenz der Re
 naissance
URL:http://sozialatlas-neukoelln.de/index.php?option=com_jem&view=event&id=
 106:die-pazzi-verschwoerung-macht-gewalt-und-kunst-im-florenz-der-renaissa
 nce
END:VEVENT
BEGIN:VEVENT
UID:event106@Sozialatlas Neukölln
DTSTAMP:20260421T090703Z
CATEGORIES:Austellungen
DESCRIPTION:Die Pazzi-Verschwörung - Macht\, Gewalt und Kunst im Florenz de
 r Renaissance\nKategorie: Austellungen\nICS-Link: http://sozialatlas-neuko
 elln.de/index.php?option=com_jem&view=event&id=106:die-pazzi-verschwoerung
 -macht-gewalt-und-kunst-im-florenz-der-renaissance\n
DTSTART;VALUE=DATE:20260430
DTEND;VALUE=DATE:20260921
LOCATION:Bode-Museum\,Am Kupfergraben\, Eingang über die Monbijoubrücke\,10
 178 Berlin\,Germany
SUMMARY:Die Pazzi-Verschwörung - Macht\, Gewalt und Kunst im Florenz der Re
 naissance
URL:http://sozialatlas-neukoelln.de/index.php?option=com_jem&view=event&id=
 106:die-pazzi-verschwoerung-macht-gewalt-und-kunst-im-florenz-der-renaissa
 nce
END:VEVENT
END:VCALENDAR