BEGIN:VCALENDAR
VERSION:2.0
PRODID:-//217.160.0.216//NONSGML kigkonsult.se iCalcreator 2.20//
CALSCALE:GREGORIAN
METHOD:PUBLISH
X-WR-TIMEZONE:Europe/Berlin
BEGIN:VEVENT
UID:event98@Sozialatlas Neukölln
DTSTAMP:20260419T132542Z
CATEGORIES:Austellungen
DESCRIPTION:Skandal! Hermione von Preuschen und der Mors Imperator\nKategor
 ie: Austellungen\nICS-Link: http://sozialatlas-neukoelln.de/index.php?opti
 on=com_jem&view=event&id=98:skandal-hermione-von-preuschen-und-der-mors-im
 perator\n
DTSTART;VALUE=DATE:20260322
DTEND;VALUE=DATE:20261116
LOCATION:Alte Nationalgalerie\,Bodestraße\,10178 Berlin\,Germany
SUMMARY:Skandal! Hermione von Preuschen und der Mors Imperator
URL:http://sozialatlas-neukoelln.de/index.php?option=com_jem&view=event&id=
 98:skandal-hermione-von-preuschen-und-der-mors-imperator
END:VEVENT
BEGIN:VEVENT
UID:event98@Sozialatlas Neukölln
DTSTAMP:20260419T132542Z
CATEGORIES:Austellungen
DESCRIPTION:Skandal! Hermione von Preuschen und der Mors Imperator\nKategor
 ie: Austellungen\nICS-Link: http://sozialatlas-neukoelln.de/index.php?opti
 on=com_jem&view=event&id=98:skandal-hermione-von-preuschen-und-der-mors-im
 perator\n
DTSTART;VALUE=DATE:20260401
DTEND;VALUE=DATE:20261116
LOCATION:Alte Nationalgalerie\,Bodestraße\,10178 Berlin\,Germany
SUMMARY:Skandal! Hermione von Preuschen und der Mors Imperator
URL:http://sozialatlas-neukoelln.de/index.php?option=com_jem&view=event&id=
 98:skandal-hermione-von-preuschen-und-der-mors-imperator
END:VEVENT
BEGIN:VEVENT
UID:event98@Sozialatlas Neukölln
DTSTAMP:20260419T132542Z
CATEGORIES:Austellungen
DESCRIPTION:Skandal! Hermione von Preuschen und der Mors Imperator\nKategor
 ie: Austellungen\nICS-Link: http://sozialatlas-neukoelln.de/index.php?opti
 on=com_jem&view=event&id=98:skandal-hermione-von-preuschen-und-der-mors-im
 perator\n
DTSTART;VALUE=DATE:20260402
DTEND;VALUE=DATE:20261116
LOCATION:Alte Nationalgalerie\,Bodestraße\,10178 Berlin\,Germany
SUMMARY:Skandal! Hermione von Preuschen und der Mors Imperator
URL:http://sozialatlas-neukoelln.de/index.php?option=com_jem&view=event&id=
 98:skandal-hermione-von-preuschen-und-der-mors-imperator
END:VEVENT
BEGIN:VEVENT
UID:event98@Sozialatlas Neukölln
DTSTAMP:20260419T132542Z
CATEGORIES:Austellungen
DESCRIPTION:Skandal! Hermione von Preuschen und der Mors Imperator\nKategor
 ie: Austellungen\nICS-Link: http://sozialatlas-neukoelln.de/index.php?opti
 on=com_jem&view=event&id=98:skandal-hermione-von-preuschen-und-der-mors-im
 perator\n
DTSTART;VALUE=DATE:20260403
DTEND;VALUE=DATE:20261116
LOCATION:Alte Nationalgalerie\,Bodestraße\,10178 Berlin\,Germany
SUMMARY:Skandal! Hermione von Preuschen und der Mors Imperator
URL:http://sozialatlas-neukoelln.de/index.php?option=com_jem&view=event&id=
 98:skandal-hermione-von-preuschen-und-der-mors-imperator
END:VEVENT
BEGIN:VEVENT
UID:event98@Sozialatlas Neukölln
DTSTAMP:20260419T132542Z
CATEGORIES:Austellungen
DESCRIPTION:Skandal! Hermione von Preuschen und der Mors Imperator\nKategor
 ie: Austellungen\nICS-Link: http://sozialatlas-neukoelln.de/index.php?opti
 on=com_jem&view=event&id=98:skandal-hermione-von-preuschen-und-der-mors-im
 perator\n
DTSTART;VALUE=DATE:20260404
DTEND;VALUE=DATE:20261116
LOCATION:Alte Nationalgalerie\,Bodestraße\,10178 Berlin\,Germany
SUMMARY:Skandal! Hermione von Preuschen und der Mors Imperator
URL:http://sozialatlas-neukoelln.de/index.php?option=com_jem&view=event&id=
 98:skandal-hermione-von-preuschen-und-der-mors-imperator
END:VEVENT
BEGIN:VEVENT
UID:event98@Sozialatlas Neukölln
DTSTAMP:20260419T132542Z
CATEGORIES:Austellungen
DESCRIPTION:Skandal! Hermione von Preuschen und der Mors Imperator\nKategor
 ie: Austellungen\nICS-Link: http://sozialatlas-neukoelln.de/index.php?opti
 on=com_jem&view=event&id=98:skandal-hermione-von-preuschen-und-der-mors-im
 perator\n
DTSTART;VALUE=DATE:20260405
DTEND;VALUE=DATE:20261116
LOCATION:Alte Nationalgalerie\,Bodestraße\,10178 Berlin\,Germany
SUMMARY:Skandal! Hermione von Preuschen und der Mors Imperator
URL:http://sozialatlas-neukoelln.de/index.php?option=com_jem&view=event&id=
 98:skandal-hermione-von-preuschen-und-der-mors-imperator
END:VEVENT
BEGIN:VEVENT
UID:event98@Sozialatlas Neukölln
DTSTAMP:20260419T132542Z
CATEGORIES:Austellungen
DESCRIPTION:Skandal! Hermione von Preuschen und der Mors Imperator\nKategor
 ie: Austellungen\nICS-Link: http://sozialatlas-neukoelln.de/index.php?opti
 on=com_jem&view=event&id=98:skandal-hermione-von-preuschen-und-der-mors-im
 perator\n
DTSTART;VALUE=DATE:20260406
DTEND;VALUE=DATE:20261116
LOCATION:Alte Nationalgalerie\,Bodestraße\,10178 Berlin\,Germany
SUMMARY:Skandal! Hermione von Preuschen und der Mors Imperator
URL:http://sozialatlas-neukoelln.de/index.php?option=com_jem&view=event&id=
 98:skandal-hermione-von-preuschen-und-der-mors-imperator
END:VEVENT
BEGIN:VEVENT
UID:event98@Sozialatlas Neukölln
DTSTAMP:20260419T132542Z
CATEGORIES:Austellungen
DESCRIPTION:Skandal! Hermione von Preuschen und der Mors Imperator\nKategor
 ie: Austellungen\nICS-Link: http://sozialatlas-neukoelln.de/index.php?opti
 on=com_jem&view=event&id=98:skandal-hermione-von-preuschen-und-der-mors-im
 perator\n
DTSTART;VALUE=DATE:20260407
DTEND;VALUE=DATE:20261116
LOCATION:Alte Nationalgalerie\,Bodestraße\,10178 Berlin\,Germany
SUMMARY:Skandal! Hermione von Preuschen und der Mors Imperator
URL:http://sozialatlas-neukoelln.de/index.php?option=com_jem&view=event&id=
 98:skandal-hermione-von-preuschen-und-der-mors-imperator
END:VEVENT
BEGIN:VEVENT
UID:event98@Sozialatlas Neukölln
DTSTAMP:20260419T132542Z
CATEGORIES:Austellungen
DESCRIPTION:Skandal! Hermione von Preuschen und der Mors Imperator\nKategor
 ie: Austellungen\nICS-Link: http://sozialatlas-neukoelln.de/index.php?opti
 on=com_jem&view=event&id=98:skandal-hermione-von-preuschen-und-der-mors-im
 perator\n
DTSTART;VALUE=DATE:20260408
DTEND;VALUE=DATE:20261116
LOCATION:Alte Nationalgalerie\,Bodestraße\,10178 Berlin\,Germany
SUMMARY:Skandal! Hermione von Preuschen und der Mors Imperator
URL:http://sozialatlas-neukoelln.de/index.php?option=com_jem&view=event&id=
 98:skandal-hermione-von-preuschen-und-der-mors-imperator
END:VEVENT
BEGIN:VEVENT
UID:event98@Sozialatlas Neukölln
DTSTAMP:20260419T132542Z
CATEGORIES:Austellungen
DESCRIPTION:Skandal! Hermione von Preuschen und der Mors Imperator\nKategor
 ie: Austellungen\nICS-Link: http://sozialatlas-neukoelln.de/index.php?opti
 on=com_jem&view=event&id=98:skandal-hermione-von-preuschen-und-der-mors-im
 perator\n
DTSTART;VALUE=DATE:20260409
DTEND;VALUE=DATE:20261116
LOCATION:Alte Nationalgalerie\,Bodestraße\,10178 Berlin\,Germany
SUMMARY:Skandal! Hermione von Preuschen und der Mors Imperator
URL:http://sozialatlas-neukoelln.de/index.php?option=com_jem&view=event&id=
 98:skandal-hermione-von-preuschen-und-der-mors-imperator
END:VEVENT
BEGIN:VEVENT
UID:event98@Sozialatlas Neukölln
DTSTAMP:20260419T132542Z
CATEGORIES:Austellungen
DESCRIPTION:Skandal! Hermione von Preuschen und der Mors Imperator\nKategor
 ie: Austellungen\nICS-Link: http://sozialatlas-neukoelln.de/index.php?opti
 on=com_jem&view=event&id=98:skandal-hermione-von-preuschen-und-der-mors-im
 perator\n
DTSTART;VALUE=DATE:20260410
DTEND;VALUE=DATE:20261116
LOCATION:Alte Nationalgalerie\,Bodestraße\,10178 Berlin\,Germany
SUMMARY:Skandal! Hermione von Preuschen und der Mors Imperator
URL:http://sozialatlas-neukoelln.de/index.php?option=com_jem&view=event&id=
 98:skandal-hermione-von-preuschen-und-der-mors-imperator
END:VEVENT
BEGIN:VEVENT
UID:event98@Sozialatlas Neukölln
DTSTAMP:20260419T132542Z
CATEGORIES:Austellungen
DESCRIPTION:Skandal! Hermione von Preuschen und der Mors Imperator\nKategor
 ie: Austellungen\nICS-Link: http://sozialatlas-neukoelln.de/index.php?opti
 on=com_jem&view=event&id=98:skandal-hermione-von-preuschen-und-der-mors-im
 perator\n
DTSTART;VALUE=DATE:20260411
DTEND;VALUE=DATE:20261116
LOCATION:Alte Nationalgalerie\,Bodestraße\,10178 Berlin\,Germany
SUMMARY:Skandal! Hermione von Preuschen und der Mors Imperator
URL:http://sozialatlas-neukoelln.de/index.php?option=com_jem&view=event&id=
 98:skandal-hermione-von-preuschen-und-der-mors-imperator
END:VEVENT
BEGIN:VEVENT
UID:event98@Sozialatlas Neukölln
DTSTAMP:20260419T132542Z
CATEGORIES:Austellungen
DESCRIPTION:Skandal! Hermione von Preuschen und der Mors Imperator\nKategor
 ie: Austellungen\nICS-Link: http://sozialatlas-neukoelln.de/index.php?opti
 on=com_jem&view=event&id=98:skandal-hermione-von-preuschen-und-der-mors-im
 perator\n
DTSTART;VALUE=DATE:20260412
DTEND;VALUE=DATE:20261116
LOCATION:Alte Nationalgalerie\,Bodestraße\,10178 Berlin\,Germany
SUMMARY:Skandal! Hermione von Preuschen und der Mors Imperator
URL:http://sozialatlas-neukoelln.de/index.php?option=com_jem&view=event&id=
 98:skandal-hermione-von-preuschen-und-der-mors-imperator
END:VEVENT
BEGIN:VEVENT
UID:event98@Sozialatlas Neukölln
DTSTAMP:20260419T132542Z
CATEGORIES:Austellungen
DESCRIPTION:Skandal! Hermione von Preuschen und der Mors Imperator\nKategor
 ie: Austellungen\nICS-Link: http://sozialatlas-neukoelln.de/index.php?opti
 on=com_jem&view=event&id=98:skandal-hermione-von-preuschen-und-der-mors-im
 perator\n
DTSTART;VALUE=DATE:20260413
DTEND;VALUE=DATE:20261116
LOCATION:Alte Nationalgalerie\,Bodestraße\,10178 Berlin\,Germany
SUMMARY:Skandal! Hermione von Preuschen und der Mors Imperator
URL:http://sozialatlas-neukoelln.de/index.php?option=com_jem&view=event&id=
 98:skandal-hermione-von-preuschen-und-der-mors-imperator
END:VEVENT
BEGIN:VEVENT
UID:event98@Sozialatlas Neukölln
DTSTAMP:20260419T132542Z
CATEGORIES:Austellungen
DESCRIPTION:Skandal! Hermione von Preuschen und der Mors Imperator\nKategor
 ie: Austellungen\nICS-Link: http://sozialatlas-neukoelln.de/index.php?opti
 on=com_jem&view=event&id=98:skandal-hermione-von-preuschen-und-der-mors-im
 perator\n
DTSTART;VALUE=DATE:20260414
DTEND;VALUE=DATE:20261116
LOCATION:Alte Nationalgalerie\,Bodestraße\,10178 Berlin\,Germany
SUMMARY:Skandal! Hermione von Preuschen und der Mors Imperator
URL:http://sozialatlas-neukoelln.de/index.php?option=com_jem&view=event&id=
 98:skandal-hermione-von-preuschen-und-der-mors-imperator
END:VEVENT
BEGIN:VEVENT
UID:event98@Sozialatlas Neukölln
DTSTAMP:20260419T132542Z
CATEGORIES:Austellungen
DESCRIPTION:Skandal! Hermione von Preuschen und der Mors Imperator\nKategor
 ie: Austellungen\nICS-Link: http://sozialatlas-neukoelln.de/index.php?opti
 on=com_jem&view=event&id=98:skandal-hermione-von-preuschen-und-der-mors-im
 perator\n
DTSTART;VALUE=DATE:20260415
DTEND;VALUE=DATE:20261116
LOCATION:Alte Nationalgalerie\,Bodestraße\,10178 Berlin\,Germany
SUMMARY:Skandal! Hermione von Preuschen und der Mors Imperator
URL:http://sozialatlas-neukoelln.de/index.php?option=com_jem&view=event&id=
 98:skandal-hermione-von-preuschen-und-der-mors-imperator
END:VEVENT
BEGIN:VEVENT
UID:event98@Sozialatlas Neukölln
DTSTAMP:20260419T132542Z
CATEGORIES:Austellungen
DESCRIPTION:Skandal! Hermione von Preuschen und der Mors Imperator\nKategor
 ie: Austellungen\nICS-Link: http://sozialatlas-neukoelln.de/index.php?opti
 on=com_jem&view=event&id=98:skandal-hermione-von-preuschen-und-der-mors-im
 perator\n
DTSTART;VALUE=DATE:20260416
DTEND;VALUE=DATE:20261116
LOCATION:Alte Nationalgalerie\,Bodestraße\,10178 Berlin\,Germany
SUMMARY:Skandal! Hermione von Preuschen und der Mors Imperator
URL:http://sozialatlas-neukoelln.de/index.php?option=com_jem&view=event&id=
 98:skandal-hermione-von-preuschen-und-der-mors-imperator
END:VEVENT
BEGIN:VEVENT
UID:event98@Sozialatlas Neukölln
DTSTAMP:20260419T132542Z
CATEGORIES:Austellungen
DESCRIPTION:Skandal! Hermione von Preuschen und der Mors Imperator\nKategor
 ie: Austellungen\nICS-Link: http://sozialatlas-neukoelln.de/index.php?opti
 on=com_jem&view=event&id=98:skandal-hermione-von-preuschen-und-der-mors-im
 perator\n
DTSTART;VALUE=DATE:20260417
DTEND;VALUE=DATE:20261116
LOCATION:Alte Nationalgalerie\,Bodestraße\,10178 Berlin\,Germany
SUMMARY:Skandal! Hermione von Preuschen und der Mors Imperator
URL:http://sozialatlas-neukoelln.de/index.php?option=com_jem&view=event&id=
 98:skandal-hermione-von-preuschen-und-der-mors-imperator
END:VEVENT
BEGIN:VEVENT
UID:event98@Sozialatlas Neukölln
DTSTAMP:20260419T132542Z
CATEGORIES:Austellungen
DESCRIPTION:Skandal! Hermione von Preuschen und der Mors Imperator\nKategor
 ie: Austellungen\nICS-Link: http://sozialatlas-neukoelln.de/index.php?opti
 on=com_jem&view=event&id=98:skandal-hermione-von-preuschen-und-der-mors-im
 perator\n
DTSTART;VALUE=DATE:20260418
DTEND;VALUE=DATE:20261116
LOCATION:Alte Nationalgalerie\,Bodestraße\,10178 Berlin\,Germany
SUMMARY:Skandal! Hermione von Preuschen und der Mors Imperator
URL:http://sozialatlas-neukoelln.de/index.php?option=com_jem&view=event&id=
 98:skandal-hermione-von-preuschen-und-der-mors-imperator
END:VEVENT
BEGIN:VEVENT
UID:event98@Sozialatlas Neukölln
DTSTAMP:20260419T132542Z
CATEGORIES:Austellungen
DESCRIPTION:Skandal! Hermione von Preuschen und der Mors Imperator\nKategor
 ie: Austellungen\nICS-Link: http://sozialatlas-neukoelln.de/index.php?opti
 on=com_jem&view=event&id=98:skandal-hermione-von-preuschen-und-der-mors-im
 perator\n
DTSTART;VALUE=DATE:20260419
DTEND;VALUE=DATE:20261116
LOCATION:Alte Nationalgalerie\,Bodestraße\,10178 Berlin\,Germany
SUMMARY:Skandal! Hermione von Preuschen und der Mors Imperator
URL:http://sozialatlas-neukoelln.de/index.php?option=com_jem&view=event&id=
 98:skandal-hermione-von-preuschen-und-der-mors-imperator
END:VEVENT
BEGIN:VEVENT
UID:event98@Sozialatlas Neukölln
DTSTAMP:20260419T132542Z
CATEGORIES:Austellungen
DESCRIPTION:Skandal! Hermione von Preuschen und der Mors Imperator\nKategor
 ie: Austellungen\nICS-Link: http://sozialatlas-neukoelln.de/index.php?opti
 on=com_jem&view=event&id=98:skandal-hermione-von-preuschen-und-der-mors-im
 perator\n
DTSTART;VALUE=DATE:20260420
DTEND;VALUE=DATE:20261116
LOCATION:Alte Nationalgalerie\,Bodestraße\,10178 Berlin\,Germany
SUMMARY:Skandal! Hermione von Preuschen und der Mors Imperator
URL:http://sozialatlas-neukoelln.de/index.php?option=com_jem&view=event&id=
 98:skandal-hermione-von-preuschen-und-der-mors-imperator
END:VEVENT
BEGIN:VEVENT
UID:event98@Sozialatlas Neukölln
DTSTAMP:20260419T132542Z
CATEGORIES:Austellungen
DESCRIPTION:Skandal! Hermione von Preuschen und der Mors Imperator\nKategor
 ie: Austellungen\nICS-Link: http://sozialatlas-neukoelln.de/index.php?opti
 on=com_jem&view=event&id=98:skandal-hermione-von-preuschen-und-der-mors-im
 perator\n
DTSTART;VALUE=DATE:20260421
DTEND;VALUE=DATE:20261116
LOCATION:Alte Nationalgalerie\,Bodestraße\,10178 Berlin\,Germany
SUMMARY:Skandal! Hermione von Preuschen und der Mors Imperator
URL:http://sozialatlas-neukoelln.de/index.php?option=com_jem&view=event&id=
 98:skandal-hermione-von-preuschen-und-der-mors-imperator
END:VEVENT
BEGIN:VEVENT
UID:event98@Sozialatlas Neukölln
DTSTAMP:20260419T132542Z
CATEGORIES:Austellungen
DESCRIPTION:Skandal! Hermione von Preuschen und der Mors Imperator\nKategor
 ie: Austellungen\nICS-Link: http://sozialatlas-neukoelln.de/index.php?opti
 on=com_jem&view=event&id=98:skandal-hermione-von-preuschen-und-der-mors-im
 perator\n
DTSTART;VALUE=DATE:20260422
DTEND;VALUE=DATE:20261116
LOCATION:Alte Nationalgalerie\,Bodestraße\,10178 Berlin\,Germany
SUMMARY:Skandal! Hermione von Preuschen und der Mors Imperator
URL:http://sozialatlas-neukoelln.de/index.php?option=com_jem&view=event&id=
 98:skandal-hermione-von-preuschen-und-der-mors-imperator
END:VEVENT
BEGIN:VEVENT
UID:event98@Sozialatlas Neukölln
DTSTAMP:20260419T132542Z
CATEGORIES:Austellungen
DESCRIPTION:Skandal! Hermione von Preuschen und der Mors Imperator\nKategor
 ie: Austellungen\nICS-Link: http://sozialatlas-neukoelln.de/index.php?opti
 on=com_jem&view=event&id=98:skandal-hermione-von-preuschen-und-der-mors-im
 perator\n
DTSTART;VALUE=DATE:20260423
DTEND;VALUE=DATE:20261116
LOCATION:Alte Nationalgalerie\,Bodestraße\,10178 Berlin\,Germany
SUMMARY:Skandal! Hermione von Preuschen und der Mors Imperator
URL:http://sozialatlas-neukoelln.de/index.php?option=com_jem&view=event&id=
 98:skandal-hermione-von-preuschen-und-der-mors-imperator
END:VEVENT
BEGIN:VEVENT
UID:event98@Sozialatlas Neukölln
DTSTAMP:20260419T132542Z
CATEGORIES:Austellungen
DESCRIPTION:Skandal! Hermione von Preuschen und der Mors Imperator\nKategor
 ie: Austellungen\nICS-Link: http://sozialatlas-neukoelln.de/index.php?opti
 on=com_jem&view=event&id=98:skandal-hermione-von-preuschen-und-der-mors-im
 perator\n
DTSTART;VALUE=DATE:20260424
DTEND;VALUE=DATE:20261116
LOCATION:Alte Nationalgalerie\,Bodestraße\,10178 Berlin\,Germany
SUMMARY:Skandal! Hermione von Preuschen und der Mors Imperator
URL:http://sozialatlas-neukoelln.de/index.php?option=com_jem&view=event&id=
 98:skandal-hermione-von-preuschen-und-der-mors-imperator
END:VEVENT
BEGIN:VEVENT
UID:event98@Sozialatlas Neukölln
DTSTAMP:20260419T132542Z
CATEGORIES:Austellungen
DESCRIPTION:Skandal! Hermione von Preuschen und der Mors Imperator\nKategor
 ie: Austellungen\nICS-Link: http://sozialatlas-neukoelln.de/index.php?opti
 on=com_jem&view=event&id=98:skandal-hermione-von-preuschen-und-der-mors-im
 perator\n
DTSTART;VALUE=DATE:20260425
DTEND;VALUE=DATE:20261116
LOCATION:Alte Nationalgalerie\,Bodestraße\,10178 Berlin\,Germany
SUMMARY:Skandal! Hermione von Preuschen und der Mors Imperator
URL:http://sozialatlas-neukoelln.de/index.php?option=com_jem&view=event&id=
 98:skandal-hermione-von-preuschen-und-der-mors-imperator
END:VEVENT
BEGIN:VEVENT
UID:event98@Sozialatlas Neukölln
DTSTAMP:20260419T132542Z
CATEGORIES:Austellungen
DESCRIPTION:Skandal! Hermione von Preuschen und der Mors Imperator\nKategor
 ie: Austellungen\nICS-Link: http://sozialatlas-neukoelln.de/index.php?opti
 on=com_jem&view=event&id=98:skandal-hermione-von-preuschen-und-der-mors-im
 perator\n
DTSTART;VALUE=DATE:20260426
DTEND;VALUE=DATE:20261116
LOCATION:Alte Nationalgalerie\,Bodestraße\,10178 Berlin\,Germany
SUMMARY:Skandal! Hermione von Preuschen und der Mors Imperator
URL:http://sozialatlas-neukoelln.de/index.php?option=com_jem&view=event&id=
 98:skandal-hermione-von-preuschen-und-der-mors-imperator
END:VEVENT
BEGIN:VEVENT
UID:event98@Sozialatlas Neukölln
DTSTAMP:20260419T132542Z
CATEGORIES:Austellungen
DESCRIPTION:Skandal! Hermione von Preuschen und der Mors Imperator\nKategor
 ie: Austellungen\nICS-Link: http://sozialatlas-neukoelln.de/index.php?opti
 on=com_jem&view=event&id=98:skandal-hermione-von-preuschen-und-der-mors-im
 perator\n
DTSTART;VALUE=DATE:20260427
DTEND;VALUE=DATE:20261116
LOCATION:Alte Nationalgalerie\,Bodestraße\,10178 Berlin\,Germany
SUMMARY:Skandal! Hermione von Preuschen und der Mors Imperator
URL:http://sozialatlas-neukoelln.de/index.php?option=com_jem&view=event&id=
 98:skandal-hermione-von-preuschen-und-der-mors-imperator
END:VEVENT
BEGIN:VEVENT
UID:event98@Sozialatlas Neukölln
DTSTAMP:20260419T132542Z
CATEGORIES:Austellungen
DESCRIPTION:Skandal! Hermione von Preuschen und der Mors Imperator\nKategor
 ie: Austellungen\nICS-Link: http://sozialatlas-neukoelln.de/index.php?opti
 on=com_jem&view=event&id=98:skandal-hermione-von-preuschen-und-der-mors-im
 perator\n
DTSTART;VALUE=DATE:20260428
DTEND;VALUE=DATE:20261116
LOCATION:Alte Nationalgalerie\,Bodestraße\,10178 Berlin\,Germany
SUMMARY:Skandal! Hermione von Preuschen und der Mors Imperator
URL:http://sozialatlas-neukoelln.de/index.php?option=com_jem&view=event&id=
 98:skandal-hermione-von-preuschen-und-der-mors-imperator
END:VEVENT
BEGIN:VEVENT
UID:event98@Sozialatlas Neukölln
DTSTAMP:20260419T132542Z
CATEGORIES:Austellungen
DESCRIPTION:Skandal! Hermione von Preuschen und der Mors Imperator\nKategor
 ie: Austellungen\nICS-Link: http://sozialatlas-neukoelln.de/index.php?opti
 on=com_jem&view=event&id=98:skandal-hermione-von-preuschen-und-der-mors-im
 perator\n
DTSTART;VALUE=DATE:20260429
DTEND;VALUE=DATE:20261116
LOCATION:Alte Nationalgalerie\,Bodestraße\,10178 Berlin\,Germany
SUMMARY:Skandal! Hermione von Preuschen und der Mors Imperator
URL:http://sozialatlas-neukoelln.de/index.php?option=com_jem&view=event&id=
 98:skandal-hermione-von-preuschen-und-der-mors-imperator
END:VEVENT
BEGIN:VEVENT
UID:event98@Sozialatlas Neukölln
DTSTAMP:20260419T132542Z
CATEGORIES:Austellungen
DESCRIPTION:Skandal! Hermione von Preuschen und der Mors Imperator\nKategor
 ie: Austellungen\nICS-Link: http://sozialatlas-neukoelln.de/index.php?opti
 on=com_jem&view=event&id=98:skandal-hermione-von-preuschen-und-der-mors-im
 perator\n
DTSTART;VALUE=DATE:20260430
DTEND;VALUE=DATE:20261116
LOCATION:Alte Nationalgalerie\,Bodestraße\,10178 Berlin\,Germany
SUMMARY:Skandal! Hermione von Preuschen und der Mors Imperator
URL:http://sozialatlas-neukoelln.de/index.php?option=com_jem&view=event&id=
 98:skandal-hermione-von-preuschen-und-der-mors-imperator
END:VEVENT
END:VCALENDAR