BEGIN:VCALENDAR
VERSION:2.0
PRODID:-//217.160.0.216//NONSGML kigkonsult.se iCalcreator 2.20//
CALSCALE:GREGORIAN
METHOD:PUBLISH
X-WR-TIMEZONE:Europe/Berlin
BEGIN:VEVENT
UID:event99@Sozialatlas Neukölln
DTSTAMP:20260423T103116Z
CATEGORIES:Austellungen
DESCRIPTION:Cassirer und der Durchbruch des Impressionismus\nKategorie: Aus
 tellungen\nICS-Link: http://sozialatlas-neukoelln.de/index.php?option=com_
 jem&view=event&id=99:cassirer-und-der-durchbruch-des-impressionismus\n
DTSTART;VALUE=DATE:20260522
DTEND;VALUE=DATE:20260928
LOCATION:Alte Nationalgalerie\,Bodestraße\,10178 Berlin
SUMMARY:Cassirer und der Durchbruch des Impressionismus
URL:http://sozialatlas-neukoelln.de/index.php?option=com_jem&view=event&id=
 99:cassirer-und-der-durchbruch-des-impressionismus
END:VEVENT
END:VCALENDAR