BEGIN:VCALENDAR
VERSION:2.0
PRODID:-//217.160.0.216//NONSGML kigkonsult.se iCalcreator 2.20//
CALSCALE:GREGORIAN
METHOD:PUBLISH
X-WR-TIMEZONE:Europe/Berlin
BEGIN:VEVENT
UID:event97@Sozialatlas Neukölln
DTSTAMP:20260423T115924Z
CATEGORIES:Austellungen
DESCRIPTION:'dieser Feind steht rechts!“ - Der Kampf gegen den Nationalsozi
 alismus vor 1933 - Sonderausstellung\nKategorie: Austellungen\nICS-Link: h
 ttp://sozialatlas-neukoelln.de/index.php?option=com_jem&view=event&id=97:d
 ieser-feind-steht-rechts-der-kampf-gegen-den-nationalsozialismus-vor-1933
 \n
DTSTART;VALUE=DATE:20260122
DTEND;VALUE=DATE:20260824
LOCATION:Gedenkstätte Deutscher Widerstand\,Stauffenbergstraße 13 - 14\,107
 85 Berlin
SUMMARY:'dieser Feind steht rechts!“ - Der Kampf gegen den Nationalsozialis
 mus vor 1933 - Sonderausstellung
URL:http://sozialatlas-neukoelln.de/index.php?option=com_jem&view=event&id=
 97:dieser-feind-steht-rechts-der-kampf-gegen-den-nationalsozialismus-vor-1
 933
END:VEVENT
END:VCALENDAR