BEGIN:VCALENDAR
VERSION:2.0
PRODID:-//217.160.0.216//NONSGML kigkonsult.se iCalcreator 2.20//
CALSCALE:GREGORIAN
METHOD:PUBLISH
X-WR-TIMEZONE:Europe/Berlin
BEGIN:VEVENT
UID:event95@Sozialatlas Neukölln
DTSTAMP:20260421T111742Z
CATEGORIES:Tag der offenen Tür
DESCRIPTION:Die Bundeswehr beim Tag der offenen Tür der Bundesregierung -  
 2026\nKategorie: Tag der offenen Tür\nICS-Link: http://sozialatlas-neukoel
 ln.de/index.php?option=com_jem&view=event&id=95:die-bundeswehr-beim-tag-de
 r-offenen-tuer-der-bundesregierung-2026\n
DTSTART;VALUE=DATE:20260620
DTEND;VALUE=DATE:20260622
SUMMARY:Die Bundeswehr beim Tag der offenen Tür der Bundesregierung -  2026
URL:http://sozialatlas-neukoelln.de/index.php?option=com_jem&view=event&id=
 95:die-bundeswehr-beim-tag-der-offenen-tuer-der-bundesregierung-2026
END:VEVENT
END:VCALENDAR