BEGIN:VCALENDAR
VERSION:2.0
PRODID:-//217.160.0.216//NONSGML kigkonsult.se iCalcreator 2.20//
CALSCALE:GREGORIAN
METHOD:PUBLISH
X-WR-TIMEZONE:Europe/Berlin
BEGIN:VEVENT
UID:event37@Sozialatlas Neukölln
DTSTAMP:20260421T104048Z
CATEGORIES:Austellungen
DESCRIPTION:Im Sauseschritt durch die BerlinZEIT\nKategorie: Austellungen\n
 ICS-Link: http://sozialatlas-neukoelln.de/index.php?option=com_jem&view=ev
 ent&id=37:im-sauseschritt-durch-die-berlinzeit\n
DTSTART;TZID=Europe/Berlin:20260419T140000
DTEND;TZID=Europe/Berlin:20260419T140000
LOCATION:Museum im Ephraim-Palais\,Poststraße 16\,10178 Berlin
SUMMARY:Im Sauseschritt durch die BerlinZEIT
URL:http://sozialatlas-neukoelln.de/index.php?option=com_jem&view=event&id=
 37:im-sauseschritt-durch-die-berlinzeit
END:VEVENT
END:VCALENDAR