BEGIN:VCALENDAR
VERSION:2.0
PRODID:-//217.160.0.216//NONSGML kigkonsult.se iCalcreator 2.20//
CALSCALE:GREGORIAN
METHOD:PUBLISH
X-WR-TIMEZONE:Europe/Berlin
BEGIN:VEVENT
UID:event34@Sozialatlas Neukölln
DTSTAMP:20260421T093139Z
CATEGORIES:Stadtspaziergang
DESCRIPTION:ZEICHEN.SPRACHEN.STADTRAUM. Graffiti und Street Art in Neukölln
 \nKategorie: Stadtspaziergang\nICS-Link: http://sozialatlas-neukoelln.de/i
 ndex.php?option=com_jem&view=event&id=34:zeichen-sprachen-stadtraum-graffi
 ti-und-street-art-in-neukoelln\n
DTSTART;TZID=Europe/Berlin:20260510T110000
DTEND;TZID=Europe/Berlin:20260510T131500
SUMMARY:ZEICHEN.SPRACHEN.STADTRAUM. Graffiti und Street Art in Neukölln
URL:http://sozialatlas-neukoelln.de/index.php?option=com_jem&view=event&id=
 34:zeichen-sprachen-stadtraum-graffiti-und-street-art-in-neukoelln
END:VEVENT
END:VCALENDAR