BEGIN:VCALENDAR
VERSION:2.0
PRODID:-//217.160.0.216//NONSGML kigkonsult.se iCalcreator 2.20//
CALSCALE:GREGORIAN
METHOD:PUBLISH
X-WR-TIMEZONE:Europe/Berlin
BEGIN:VEVENT
UID:event90@Sozialatlas Neukölln
DTSTAMP:20260419T131924Z
CATEGORIES:Festivals
DESCRIPTION:Britzer Baumblüte - 2026\nKategorie: Festivals\nICS-Link: http:
 //sozialatlas-neukoelln.de/index.php?option=com_jem&view=event&id=90:britz
 er-baumbluete-2026\n
DTSTART;VALUE=DATE:20260327
DTEND;VALUE=DATE:20260420
SUMMARY:Britzer Baumblüte - 2026
URL:http://sozialatlas-neukoelln.de/index.php?option=com_jem&view=event&id=
 90:britzer-baumbluete-2026
END:VEVENT
BEGIN:VEVENT
UID:event90@Sozialatlas Neukölln
DTSTAMP:20260419T131924Z
CATEGORIES:Festivals
DESCRIPTION:Britzer Baumblüte - 2026\nKategorie: Festivals\nICS-Link: http:
 //sozialatlas-neukoelln.de/index.php?option=com_jem&view=event&id=90:britz
 er-baumbluete-2026\n
DTSTART;VALUE=DATE:20260401
DTEND;VALUE=DATE:20260420
SUMMARY:Britzer Baumblüte - 2026
URL:http://sozialatlas-neukoelln.de/index.php?option=com_jem&view=event&id=
 90:britzer-baumbluete-2026
END:VEVENT
BEGIN:VEVENT
UID:event90@Sozialatlas Neukölln
DTSTAMP:20260419T131924Z
CATEGORIES:Festivals
DESCRIPTION:Britzer Baumblüte - 2026\nKategorie: Festivals\nICS-Link: http:
 //sozialatlas-neukoelln.de/index.php?option=com_jem&view=event&id=90:britz
 er-baumbluete-2026\n
DTSTART;VALUE=DATE:20260402
DTEND;VALUE=DATE:20260420
SUMMARY:Britzer Baumblüte - 2026
URL:http://sozialatlas-neukoelln.de/index.php?option=com_jem&view=event&id=
 90:britzer-baumbluete-2026
END:VEVENT
BEGIN:VEVENT
UID:event90@Sozialatlas Neukölln
DTSTAMP:20260419T131924Z
CATEGORIES:Festivals
DESCRIPTION:Britzer Baumblüte - 2026\nKategorie: Festivals\nICS-Link: http:
 //sozialatlas-neukoelln.de/index.php?option=com_jem&view=event&id=90:britz
 er-baumbluete-2026\n
DTSTART;VALUE=DATE:20260403
DTEND;VALUE=DATE:20260420
SUMMARY:Britzer Baumblüte - 2026
URL:http://sozialatlas-neukoelln.de/index.php?option=com_jem&view=event&id=
 90:britzer-baumbluete-2026
END:VEVENT
BEGIN:VEVENT
UID:event90@Sozialatlas Neukölln
DTSTAMP:20260419T131924Z
CATEGORIES:Festivals
DESCRIPTION:Britzer Baumblüte - 2026\nKategorie: Festivals\nICS-Link: http:
 //sozialatlas-neukoelln.de/index.php?option=com_jem&view=event&id=90:britz
 er-baumbluete-2026\n
DTSTART;VALUE=DATE:20260404
DTEND;VALUE=DATE:20260420
SUMMARY:Britzer Baumblüte - 2026
URL:http://sozialatlas-neukoelln.de/index.php?option=com_jem&view=event&id=
 90:britzer-baumbluete-2026
END:VEVENT
BEGIN:VEVENT
UID:event90@Sozialatlas Neukölln
DTSTAMP:20260419T131924Z
CATEGORIES:Festivals
DESCRIPTION:Britzer Baumblüte - 2026\nKategorie: Festivals\nICS-Link: http:
 //sozialatlas-neukoelln.de/index.php?option=com_jem&view=event&id=90:britz
 er-baumbluete-2026\n
DTSTART;VALUE=DATE:20260405
DTEND;VALUE=DATE:20260420
SUMMARY:Britzer Baumblüte - 2026
URL:http://sozialatlas-neukoelln.de/index.php?option=com_jem&view=event&id=
 90:britzer-baumbluete-2026
END:VEVENT
BEGIN:VEVENT
UID:event90@Sozialatlas Neukölln
DTSTAMP:20260419T131924Z
CATEGORIES:Festivals
DESCRIPTION:Britzer Baumblüte - 2026\nKategorie: Festivals\nICS-Link: http:
 //sozialatlas-neukoelln.de/index.php?option=com_jem&view=event&id=90:britz
 er-baumbluete-2026\n
DTSTART;VALUE=DATE:20260406
DTEND;VALUE=DATE:20260420
SUMMARY:Britzer Baumblüte - 2026
URL:http://sozialatlas-neukoelln.de/index.php?option=com_jem&view=event&id=
 90:britzer-baumbluete-2026
END:VEVENT
BEGIN:VEVENT
UID:event90@Sozialatlas Neukölln
DTSTAMP:20260419T131924Z
CATEGORIES:Festivals
DESCRIPTION:Britzer Baumblüte - 2026\nKategorie: Festivals\nICS-Link: http:
 //sozialatlas-neukoelln.de/index.php?option=com_jem&view=event&id=90:britz
 er-baumbluete-2026\n
DTSTART;VALUE=DATE:20260407
DTEND;VALUE=DATE:20260420
SUMMARY:Britzer Baumblüte - 2026
URL:http://sozialatlas-neukoelln.de/index.php?option=com_jem&view=event&id=
 90:britzer-baumbluete-2026
END:VEVENT
BEGIN:VEVENT
UID:event90@Sozialatlas Neukölln
DTSTAMP:20260419T131924Z
CATEGORIES:Festivals
DESCRIPTION:Britzer Baumblüte - 2026\nKategorie: Festivals\nICS-Link: http:
 //sozialatlas-neukoelln.de/index.php?option=com_jem&view=event&id=90:britz
 er-baumbluete-2026\n
DTSTART;VALUE=DATE:20260408
DTEND;VALUE=DATE:20260420
SUMMARY:Britzer Baumblüte - 2026
URL:http://sozialatlas-neukoelln.de/index.php?option=com_jem&view=event&id=
 90:britzer-baumbluete-2026
END:VEVENT
BEGIN:VEVENT
UID:event90@Sozialatlas Neukölln
DTSTAMP:20260419T131924Z
CATEGORIES:Festivals
DESCRIPTION:Britzer Baumblüte - 2026\nKategorie: Festivals\nICS-Link: http:
 //sozialatlas-neukoelln.de/index.php?option=com_jem&view=event&id=90:britz
 er-baumbluete-2026\n
DTSTART;VALUE=DATE:20260409
DTEND;VALUE=DATE:20260420
SUMMARY:Britzer Baumblüte - 2026
URL:http://sozialatlas-neukoelln.de/index.php?option=com_jem&view=event&id=
 90:britzer-baumbluete-2026
END:VEVENT
BEGIN:VEVENT
UID:event90@Sozialatlas Neukölln
DTSTAMP:20260419T131924Z
CATEGORIES:Festivals
DESCRIPTION:Britzer Baumblüte - 2026\nKategorie: Festivals\nICS-Link: http:
 //sozialatlas-neukoelln.de/index.php?option=com_jem&view=event&id=90:britz
 er-baumbluete-2026\n
DTSTART;VALUE=DATE:20260410
DTEND;VALUE=DATE:20260420
SUMMARY:Britzer Baumblüte - 2026
URL:http://sozialatlas-neukoelln.de/index.php?option=com_jem&view=event&id=
 90:britzer-baumbluete-2026
END:VEVENT
BEGIN:VEVENT
UID:event90@Sozialatlas Neukölln
DTSTAMP:20260419T131924Z
CATEGORIES:Festivals
DESCRIPTION:Britzer Baumblüte - 2026\nKategorie: Festivals\nICS-Link: http:
 //sozialatlas-neukoelln.de/index.php?option=com_jem&view=event&id=90:britz
 er-baumbluete-2026\n
DTSTART;VALUE=DATE:20260411
DTEND;VALUE=DATE:20260420
SUMMARY:Britzer Baumblüte - 2026
URL:http://sozialatlas-neukoelln.de/index.php?option=com_jem&view=event&id=
 90:britzer-baumbluete-2026
END:VEVENT
BEGIN:VEVENT
UID:event90@Sozialatlas Neukölln
DTSTAMP:20260419T131924Z
CATEGORIES:Festivals
DESCRIPTION:Britzer Baumblüte - 2026\nKategorie: Festivals\nICS-Link: http:
 //sozialatlas-neukoelln.de/index.php?option=com_jem&view=event&id=90:britz
 er-baumbluete-2026\n
DTSTART;VALUE=DATE:20260412
DTEND;VALUE=DATE:20260420
SUMMARY:Britzer Baumblüte - 2026
URL:http://sozialatlas-neukoelln.de/index.php?option=com_jem&view=event&id=
 90:britzer-baumbluete-2026
END:VEVENT
BEGIN:VEVENT
UID:event90@Sozialatlas Neukölln
DTSTAMP:20260419T131924Z
CATEGORIES:Festivals
DESCRIPTION:Britzer Baumblüte - 2026\nKategorie: Festivals\nICS-Link: http:
 //sozialatlas-neukoelln.de/index.php?option=com_jem&view=event&id=90:britz
 er-baumbluete-2026\n
DTSTART;VALUE=DATE:20260413
DTEND;VALUE=DATE:20260420
SUMMARY:Britzer Baumblüte - 2026
URL:http://sozialatlas-neukoelln.de/index.php?option=com_jem&view=event&id=
 90:britzer-baumbluete-2026
END:VEVENT
BEGIN:VEVENT
UID:event90@Sozialatlas Neukölln
DTSTAMP:20260419T131924Z
CATEGORIES:Festivals
DESCRIPTION:Britzer Baumblüte - 2026\nKategorie: Festivals\nICS-Link: http:
 //sozialatlas-neukoelln.de/index.php?option=com_jem&view=event&id=90:britz
 er-baumbluete-2026\n
DTSTART;VALUE=DATE:20260414
DTEND;VALUE=DATE:20260420
SUMMARY:Britzer Baumblüte - 2026
URL:http://sozialatlas-neukoelln.de/index.php?option=com_jem&view=event&id=
 90:britzer-baumbluete-2026
END:VEVENT
BEGIN:VEVENT
UID:event90@Sozialatlas Neukölln
DTSTAMP:20260419T131924Z
CATEGORIES:Festivals
DESCRIPTION:Britzer Baumblüte - 2026\nKategorie: Festivals\nICS-Link: http:
 //sozialatlas-neukoelln.de/index.php?option=com_jem&view=event&id=90:britz
 er-baumbluete-2026\n
DTSTART;VALUE=DATE:20260415
DTEND;VALUE=DATE:20260420
SUMMARY:Britzer Baumblüte - 2026
URL:http://sozialatlas-neukoelln.de/index.php?option=com_jem&view=event&id=
 90:britzer-baumbluete-2026
END:VEVENT
BEGIN:VEVENT
UID:event90@Sozialatlas Neukölln
DTSTAMP:20260419T131924Z
CATEGORIES:Festivals
DESCRIPTION:Britzer Baumblüte - 2026\nKategorie: Festivals\nICS-Link: http:
 //sozialatlas-neukoelln.de/index.php?option=com_jem&view=event&id=90:britz
 er-baumbluete-2026\n
DTSTART;VALUE=DATE:20260416
DTEND;VALUE=DATE:20260420
SUMMARY:Britzer Baumblüte - 2026
URL:http://sozialatlas-neukoelln.de/index.php?option=com_jem&view=event&id=
 90:britzer-baumbluete-2026
END:VEVENT
BEGIN:VEVENT
UID:event90@Sozialatlas Neukölln
DTSTAMP:20260419T131924Z
CATEGORIES:Festivals
DESCRIPTION:Britzer Baumblüte - 2026\nKategorie: Festivals\nICS-Link: http:
 //sozialatlas-neukoelln.de/index.php?option=com_jem&view=event&id=90:britz
 er-baumbluete-2026\n
DTSTART;VALUE=DATE:20260417
DTEND;VALUE=DATE:20260420
SUMMARY:Britzer Baumblüte - 2026
URL:http://sozialatlas-neukoelln.de/index.php?option=com_jem&view=event&id=
 90:britzer-baumbluete-2026
END:VEVENT
BEGIN:VEVENT
UID:event90@Sozialatlas Neukölln
DTSTAMP:20260419T131924Z
CATEGORIES:Festivals
DESCRIPTION:Britzer Baumblüte - 2026\nKategorie: Festivals\nICS-Link: http:
 //sozialatlas-neukoelln.de/index.php?option=com_jem&view=event&id=90:britz
 er-baumbluete-2026\n
DTSTART;VALUE=DATE:20260418
DTEND;VALUE=DATE:20260420
SUMMARY:Britzer Baumblüte - 2026
URL:http://sozialatlas-neukoelln.de/index.php?option=com_jem&view=event&id=
 90:britzer-baumbluete-2026
END:VEVENT
BEGIN:VEVENT
UID:event90@Sozialatlas Neukölln
DTSTAMP:20260419T131924Z
CATEGORIES:Festivals
DESCRIPTION:Britzer Baumblüte - 2026\nKategorie: Festivals\nICS-Link: http:
 //sozialatlas-neukoelln.de/index.php?option=com_jem&view=event&id=90:britz
 er-baumbluete-2026\n
DTSTART;VALUE=DATE:20260419
DTEND;VALUE=DATE:20260420
SUMMARY:Britzer Baumblüte - 2026
URL:http://sozialatlas-neukoelln.de/index.php?option=com_jem&view=event&id=
 90:britzer-baumbluete-2026
END:VEVENT
END:VCALENDAR